BEGIN:VCALENDAR
VERSION:2.0
PRODID:-//wp-events-plugin.com//7.2.3.1//EN
TZID:America/New_York
X-WR-TIMEZONE:America/New_York
BEGIN:VEVENT
UID:2802@mariettaohio.org
DTSTART;TZID=America/New_York:20260328T170000
DTEND;TZID=America/New_York:20260328T190000
DTSTAMP:20260119T160821Z
URL:https://mariettaohio.org/events/motown-dinner-cruise-2/
SUMMARY:Motown Dinner Cruise
DESCRIPTION:Come to the Valley Gem and get down with Motown. This two hour 
 cruise will feature a Motown inspired menu and live musical entertainment 
 of some of the most popular songs from the classic Motown era. The boat is
  warm and cozy on the lower deck so don't miss this fun night!\n\nSaturday
 \, March 28\, 5pm to 7pm\nFriday\, July 24\, 6pm to 8pm\nFriday\, Septembe
 r 25\, 6pm to 8pm\n\n$46 for Adults\, $44 for Seniors\, $36 for Child\, 3-
 12\n\n**Winter Promo Alert: For our Winter/Early Spring Season\, we are ho
 lding a Music Promotion. When you attend one of our qualifying Musical Eve
 nts on the Valley Gem\, you will get a record booklet and each music event
  will have a special sticker to put in your booklet. If you attend 5 of ou
 r Musical Events\, January-April\, you will receive a special gift. If you
  attend 9 of the 10 Music Events\, you will receive the 10th event free of
  charge.\n\nQualifying events: Jazz on the River Night\, Country Western N
 ight\, Grammy Night\, Night of Queen\, Disco Night\, Motown Night\, Journe
 y Night\, and Beatles Night.
CATEGORIES:Arts &amp; Entertainment,Events,Music
LOCATION:Valley Gem Sternwheeler\, 601 Front St\, Marietta\, Ohio\, 45750\,
  United States
GEO:39.421017;-81.463989
X-APPLE-STRUCTURED-LOCATION;VALUE=URI;X-ADDRESS=601 Front St\, Marietta\, O
 hio\, 45750\, United States;X-APPLE-RADIUS=100;X-TITLE=Valley Gem Sternwhe
 eler:geo:39.421017,-81.463989
END:VEVENT
BEGIN:VTIMEZONE
TZID:America/New_York
X-LIC-LOCATION:America/New_York
BEGIN:DAYLIGHT
DTSTART:20260308T030000
TZOFFSETFROM:-0500
TZOFFSETTO:-0400
TZNAME:EDT
END:DAYLIGHT
END:VTIMEZONE
END:VCALENDAR