BEGIN:VCALENDAR
VERSION:2.0
PRODID:-//wp-events-plugin.com//7.2.3.1//EN
TZID:America/New_York
X-WR-TIMEZONE:America/New_York
BEGIN:VEVENT
UID:937@mariettaohio.org
DTSTART;TZID=America/New_York:20230818T200000
DTEND;TZID=America/New_York:20230818T234500
DTSTAMP:20230727T124626Z
URL:https://mariettaohio.org/events/motley-2/
SUMMARY:Motley 2
DESCRIPTION:Based in Los Angeles California\, Motley 2 is the premiere\, in
 ternationally touring tribute to Motley Crue that captures the entire look
  \, feel and sound that hard core Crue fans know and love. We have toured 
 extensively across the nation and abroad\, and have performed at casinos\,
  bars\, clubs\, festivals\, state fairs\, concert in the parks\, and corpo
 rate events\, and are available for everything from family friendly events
 \, or we can heat it up with an adult oriented show that leave crowds want
 ing more. Are you ready? then\, let us "take you to the top"
ATTACH;FMTTYPE=image/jpeg:https://mariettaohio.org/wp-content/uploads/2023
 /07/03135-ADL-Motley-2-socialmedia-1.jpg
CATEGORIES:Music
LOCATION:The Adelphia Music Hall\, 205 2nd St\, Marietta\, OH\, 45750\, Uni
 ted States
GEO:39.413719;-81.453701
X-APPLE-STRUCTURED-LOCATION;VALUE=URI;X-ADDRESS=205 2nd St\, Marietta\, OH\
 , 45750\, United States;X-APPLE-RADIUS=100;X-TITLE=The Adelphia Music Hall
 :geo:39.413719,-81.453701
END:VEVENT
BEGIN:VTIMEZONE
TZID:America/New_York
X-LIC-LOCATION:America/New_York
BEGIN:DAYLIGHT
DTSTART:20230312T030000
TZOFFSETFROM:-0500
TZOFFSETTO:-0400
TZNAME:EDT
END:DAYLIGHT
END:VTIMEZONE
END:VCALENDAR