BEGIN:VCALENDAR
VERSION:2.0
PRODID:-//wp-events-plugin.com//7.2.3.1//EN
TZID:America/New_York
X-WR-TIMEZONE:America/New_York
BEGIN:VEVENT
UID:2858@mariettaohio.org
DTSTART;TZID=America/New_York:20260510T130000
DTEND;TZID=America/New_York:20260510T150000
DTSTAMP:20260218T201503Z
URL:https://mariettaohio.org/events/mothers-day-lunch-cruise-2/
SUMMARY:Mother's Day Lunch Cruise
DESCRIPTION:We are excited to be offering a Mother's Day Lunch Cruise on th
 e Valley Gem Sternwheeler and Major/Riviera this year on May 10\, 2026. Ou
 r Dinner Cruise will be from 1:00pm-3:00pm. The cruise will feature a Capt
 ain's buffet and live music. Give the special mother in your life the gift
  of a cruise on the Ohio River.\n\nReservations are required.\n$48 for Adu
 lts\, $46 for Seniors\, $38 for Children 3-12\n\nBook by calling 740-373-7
 862 or visit our website www.valleygemsternwheeler.com
ATTACH;FMTTYPE=image/jpeg:https://mariettaohio.org/wp-content/uploads/2026
 /02/Mothers-Day-2024.jpg
CATEGORIES:Events
LOCATION:Valley Gem Sternwheeler/Major Riviera\, 601 Front St\, Marietta \,
  OH \, 45750\, United States
X-APPLE-STRUCTURED-LOCATION;VALUE=URI;X-ADDRESS=601 Front St\, Marietta \, 
 OH \, 45750\, United States;X-APPLE-RADIUS=100;X-TITLE=Valley Gem Sternwhe
 eler/Major Riviera:geo:0,0
END:VEVENT
BEGIN:VTIMEZONE
TZID:America/New_York
X-LIC-LOCATION:America/New_York
BEGIN:DAYLIGHT
DTSTART:20260308T030000
TZOFFSETFROM:-0500
TZOFFSETTO:-0400
TZNAME:EDT
END:DAYLIGHT
END:VTIMEZONE
END:VCALENDAR