BEGIN:VCALENDAR
VERSION:2.0
PRODID:-//wp-events-plugin.com//7.2.3.1//EN
TZID:America/New_York
X-WR-TIMEZONE:America/New_York
BEGIN:VEVENT
UID:2298@mariettaohio.org
DTSTART;TZID=America/New_York:20250627T183000
DTEND;TZID=America/New_York:20250627T203000
DTSTAMP:20250528T163340Z
URL:https://mariettaohio.org/events/mixology-dinner-cruise-7/
SUMMARY:Mixology Dinner Cruise
DESCRIPTION:We're excited to be hosting Mixology Class CRUISE. Guests will 
 learn how to make three cocktails step by step and enjoy menu items paired
  to go with each beverage.\n\nTickets include ingredients for all three co
 cktails\, all three courses of food pairings\, instruction\, a two hour cr
 uise\, coffee\, tea\, water and soda.\n\nMust be 21 to attend and a valid 
 ID available to check upon arrival.\n\n$49 per person
ATTACH;FMTTYPE=image/jpeg:https://mariettaohio.org/wp-content/uploads/2025
 /05/Mixology-Cruise.jpg
CATEGORIES:Events,Tours
LOCATION:Major/Riviera\, 601 Front Street\, Marietta\, OH\, 45750\, United 
 States
X-APPLE-STRUCTURED-LOCATION;VALUE=URI;X-ADDRESS=601 Front Street\, Marietta
 \, OH\, 45750\, United States;X-APPLE-RADIUS=100;X-TITLE=Major/Riviera:geo
 :0,0
END:VEVENT
BEGIN:VTIMEZONE
TZID:America/New_York
X-LIC-LOCATION:America/New_York
BEGIN:DAYLIGHT
DTSTART:20250309T030000
TZOFFSETFROM:-0500
TZOFFSETTO:-0400
TZNAME:EDT
END:DAYLIGHT
END:VTIMEZONE
END:VCALENDAR