BEGIN:VCALENDAR
VERSION:2.0
PRODID:-//wp-events-plugin.com//7.2.3.1//EN
TZID:America/New_York
X-WR-TIMEZONE:America/New_York
BEGIN:VEVENT
UID:3010@mariettaohio.org
DTSTART;TZID=America/New_York:20261128T180000
DTEND;TZID=America/New_York:20261128T180000
DTSTAMP:20260401T172436Z
URL:https://mariettaohio.org/events/merry-etta-lighted-christmas-parade/
SUMMARY:Merry-Etta Lighted Christmas Parade
DESCRIPTION:
ATTACH;FMTTYPE=image/jpeg:https://mariettaohio.org/wp-content/uploads/2026
 /04/CP_02-1094x840-1.jpg
CATEGORIES:Community,Family,Outdoor Recreation
END:VEVENT
BEGIN:VTIMEZONE
TZID:America/New_York
X-LIC-LOCATION:America/New_York
BEGIN:STANDARD
DTSTART:20261101T010000
TZOFFSETFROM:-0400
TZOFFSETTO:-0500
TZNAME:EST
END:STANDARD
END:VTIMEZONE
END:VCALENDAR