BEGIN:VCALENDAR
VERSION:2.0
PRODID:-//wp-events-plugin.com//7.2.3.1//EN
TZID:America/New_York
X-WR-TIMEZONE:America/New_York
BEGIN:VEVENT
UID:3009@mariettaohio.org
DTSTART;TZID=America/New_York:20261121T000000
DTEND;TZID=America/New_York:20261121T000000
DTSTAMP:20260401T172046Z
URL:https://mariettaohio.org/events/merry-etta-christmas-tree-lighting/
SUMMARY:Merry-Etta Christmas Tree Lighting
DESCRIPTION:Join Marietta Main Street as we light the City of Merry-Etta’
 s Christmas Tree on the lawn of the Armory\, officially welcoming the holi
 day season to beautiful\, historic Marietta.\n\nThe City’s Christmas Tre
 e was first installed downtown in 2018 and it lit up the entire block. Wit
 h thousands of lights\, the vibrancy of our Christmas Tree nearly matches 
 the vibrancy of downtown during the holiday season.
ATTACH;FMTTYPE=image/jpeg:https://mariettaohio.org/wp-content/uploads/2026
 /04/11-20-23-Marietta-Tree-1-630x840-1.jpg
CATEGORIES:Community,Family
LOCATION:Armory Square Lawn\, 241 Front Street\, Marietta\, OH\, 45750\, Un
 ited States
GEO:39.413178;-81.455321
X-APPLE-STRUCTURED-LOCATION;VALUE=URI;X-ADDRESS=241 Front Street\, Marietta
 \, OH\, 45750\, United States;X-APPLE-RADIUS=100;X-TITLE=Armory Square Law
 n:geo:39.413178,-81.455321
END:VEVENT
BEGIN:VTIMEZONE
TZID:America/New_York
X-LIC-LOCATION:America/New_York
BEGIN:STANDARD
DTSTART:20261101T010000
TZOFFSETFROM:-0400
TZOFFSETTO:-0500
TZNAME:EST
END:STANDARD
END:VTIMEZONE
END:VCALENDAR