BEGIN:VCALENDAR
VERSION:2.0
PRODID:-//wp-events-plugin.com//7.2.3.1//EN
TZID:America/New_York
X-WR-TIMEZONE:America/New_York
BEGIN:VEVENT
UID:2961@mariettaohio.org
DTSTART;TZID=America/New_York:20260525T130000
DTEND;TZID=America/New_York:20260525T190000
DTSTAMP:20260330T135921Z
URL:https://mariettaohio.org/events/memorial-day-picnic/
SUMMARY:Memorial Day Picnic
DESCRIPTION:The Great American Picnic returns to DAV Chapter 52. Classic fu
 n for the entire family. Food\, games and live music. A tribute to America
  and the history of the Mid Ohio Valley.
ATTACH;FMTTYPE=image/jpeg:https://mariettaohio.org/wp-content/uploads/2026
 /03/IMG_0178.jpeg
CATEGORIES:Outdoor Recreation
LOCATION:DAV Chapter 52 Hall\, 835 DAV Road\, Whipple\, Ohio\, 45788\, Unit
 ed States
X-APPLE-STRUCTURED-LOCATION;VALUE=URI;X-ADDRESS=835 DAV Road\, Whipple\, Oh
 io\, 45788\, United States;X-APPLE-RADIUS=100;X-TITLE=DAV Chapter 52 Hall:
 geo:0,0
END:VEVENT
BEGIN:VTIMEZONE
TZID:America/New_York
X-LIC-LOCATION:America/New_York
BEGIN:DAYLIGHT
DTSTART:20260308T030000
TZOFFSETFROM:-0500
TZOFFSETTO:-0400
TZNAME:EDT
END:DAYLIGHT
END:VTIMEZONE
END:VCALENDAR