BEGIN:VCALENDAR
VERSION:2.0
PRODID:-//wp-events-plugin.com//7.2.3.1//EN
TZID:America/New_York
X-WR-TIMEZONE:America/New_York
BEGIN:VEVENT
UID:2971@mariettaohio.org
DTSTART;TZID=America/New_York:20260501T170000
DTEND;TZID=America/New_York:20260501T210000
DTSTAMP:20260401T135036Z
URL:https://mariettaohio.org/events/may-first-friday-garden-party/
SUMMARY:May First Friday: Garden Party
DESCRIPTION:Downtown First Friday events take place the first Friday of eve
 ry month from 5 p.m. to 9 p.m. February through December. Highlights of th
 ese events include shops open late\, local artists and musicians\, area or
 ganizations\, and various happenings around town.\nEach First Friday is a 
 celebration of our local community and an opportunity for locals\, tourist
 s\, and area groups to show their support for our town\, have fun\, and en
 joy the beauty of vibrant\, historic downtown Marietta!\nPlus\, thanks to 
 Artsbridge and others\, each First Friday features Kid Central on the lawn
  of the Armory with fun activities for kiddos to enjoy.
ATTACH;FMTTYPE=image/jpeg:https://mariettaohio.org/wp-content/uploads/2026
 /04/4.webp
CATEGORIES:Community
LOCATION:The Armory Lawn\, 241 Front Street\, Marietta\, Ohio\, Ohio\, 4575
 0\, United States
X-APPLE-STRUCTURED-LOCATION;VALUE=URI;X-ADDRESS=241 Front Street\, Marietta
 \, Ohio\, Ohio\, 45750\, United States;X-APPLE-RADIUS=100;X-TITLE=The Armo
 ry Lawn:geo:0,0
END:VEVENT
BEGIN:VTIMEZONE
TZID:America/New_York
X-LIC-LOCATION:America/New_York
BEGIN:DAYLIGHT
DTSTART:20260308T030000
TZOFFSETFROM:-0500
TZOFFSETTO:-0400
TZNAME:EDT
END:DAYLIGHT
END:VTIMEZONE
END:VCALENDAR