BEGIN:VCALENDAR
VERSION:2.0
PRODID:-//wp-events-plugin.com//7.2.3.1//EN
TZID:America/New_York
X-WR-TIMEZONE:America/New_York
BEGIN:VEVENT
UID:2973@mariettaohio.org
DTSTART;TZID=America/New_York:20260519T173000
DTEND;TZID=America/New_York:20260519T180000
DTSTAMP:20260401T135554Z
URL:https://mariettaohio.org/events/may-cash-mob-2/
SUMMARY:May Cash Mob
DESCRIPTION:\n\n\n\n\n\n\nCash Mobs are the perfect way to shop local\, hav
 e fun\, and meet new people in our community all at the same time.\nEach C
 ash Mob event focuses on supporting a local business in downtown Marietta.
  Once participants show up at the initial meeting location\, clues will be
  provided to learn the surprise location of the evening's Cash Mob event!\
 nAll Cash Mob participants are asked to spend a minimum of $10 in each loc
 ation.\n*Initial meeting location will be the Armory located at 241 Front 
 Street*\n\n\n\n\n\n\n\n\n
ATTACH;FMTTYPE=image/jpeg:https://mariettaohio.org/wp-content/uploads/2026
 /04/2026CashMobSquares3.webp
CATEGORIES:Community,Shopping
END:VEVENT
BEGIN:VTIMEZONE
TZID:America/New_York
X-LIC-LOCATION:America/New_York
BEGIN:DAYLIGHT
DTSTART:20260308T030000
TZOFFSETFROM:-0500
TZOFFSETTO:-0400
TZNAME:EDT
END:DAYLIGHT
END:VTIMEZONE
END:VCALENDAR