BEGIN:VCALENDAR
VERSION:2.0
PRODID:-//wp-events-plugin.com//7.2.3.1//EN
TZID:America/New_York
X-WR-TIMEZONE:America/New_York
BEGIN:VEVENT
UID:1513@mariettaohio.org
DTSTART;TZID=America/New_York:20240719T200000
DTEND;TZID=America/New_York:20240719T220000
DTSTAMP:20240430T123717Z
URL:https://mariettaohio.org/events/marshall-charloff-purple-xperience/
SUMMARY:MARSHALL CHARLOFF &amp\; PURPLE XPERIENCE
DESCRIPTION:Marshall Charloff &amp\; Purple xPeRIeNCE is the most celebrate
 d tribute to Prince in the world. The group was co-founded by Marshall and
  Matt “Doctor” Fink (keyboardist from Prince &amp\; The\nRevolution) i
 n 2011\, an era where Prince closely monitored the use of his art. Their v
 ision was to deliver Prince’s music on the highest level\, played live a
 nd untracked by skilled musicians\,\nwhile paying respectful visual homage
  through costuming and likeness. Immediately met with success and adoratio
 n from discerning Prince devotees\, the band has now been touring for over
  a decade\, nationwide and internationally\, and has performed for over 50
 0\,000 fans. In 2019\, they were officially licensed by the Prince Estate\
 , and in 2021\, Marshall Charloff &amp\; The Purple xPeRIeNCE were selecte
 d by the US Department of State to be featured in the USA Pavilion of the 
 World Expo in Dubai. The band continues to hold the unique distinction of 
 playing the show 100% live\, completely untracked–paying true homage to 
 the greatest musician of our time–Prince–with real musicianship.
ATTACH;FMTTYPE=image/jpeg:https://mariettaohio.org/wp-content/uploads/2024
 /04/Heading-2.png
CATEGORIES:Arts &amp; Entertainment,Events,Music
LOCATION:Peoples Bank Theatre\, 222 Putnam St\, Marietta\, Ohio\, 45750\, U
 nited States
GEO:39.415852;-81.453433
X-APPLE-STRUCTURED-LOCATION;VALUE=URI;X-ADDRESS=222 Putnam St\, Marietta\, 
 Ohio\, 45750\, United States;X-APPLE-RADIUS=100;X-TITLE=Peoples Bank Theat
 re:geo:39.415852,-81.453433
END:VEVENT
BEGIN:VTIMEZONE
TZID:America/New_York
X-LIC-LOCATION:America/New_York
BEGIN:DAYLIGHT
DTSTART:20240310T030000
TZOFFSETFROM:-0500
TZOFFSETTO:-0400
TZNAME:EDT
END:DAYLIGHT
END:VTIMEZONE
END:VCALENDAR