BEGIN:VCALENDAR
VERSION:2.0
PRODID:-//wp-events-plugin.com//7.2.3.1//EN
TZID:America/New_York
X-WR-TIMEZONE:America/New_York
BEGIN:VEVENT
UID:3051@mariettaohio.org
DTSTART;TZID=America/New_York:20260822T110000
DTEND;TZID=America/New_York:20260822T110000
DTSTAMP:20260420T185527Z
URL:https://mariettaohio.org/events/mariettas-religious-pioneers/
SUMMARY:Marietta's Religious Pioneers
DESCRIPTION:📜 Marietta’s Religious Pioneers 📜\nStories of the First
  Religious Society\n\nStep into Marietta’s early history and discover th
 e faith\, leadership\, and legacy that helped shape the community.\n\nFeat
 uring Historical Figures:\n• General Rufus Putnam\n• Benjamin Ives Gil
 man\n• Mary (Bird) Lake\n• Nahum Ward\n• Return Jonathan Meigs\n• 
 Judge Ephraim Cutler\n\n🗓 Saturday\, August 22nd\n⏰ 11:00 AM\n\n📍 
 First Congregational Church\n318 Front Street\nMarietta\, Ohio\n\n🎤 Gue
 st Speakers:\nScott Britton\nExecutive Director\, The Castle Museum\n\nDav
 e Baker\nLocal Historian\n\n✨ Celebrating 230 Years of Faith\, History\,
  and Community ✨\nFirst Congregational Church Anniversary Event\n\nAll a
 re welcome to attend!
ATTACH;FMTTYPE=image/jpeg:https://mariettaohio.org/wp-content/uploads/2026
 /04/ChatGPT-Image-Apr-20-2026-02_41_29-PM.png
CATEGORIES:Events
LOCATION:First Congregational Church\, 318 Front Street\, Marietta\, Oh\, 4
 5750\, United States
X-APPLE-STRUCTURED-LOCATION;VALUE=URI;X-ADDRESS=318 Front Street\, Marietta
 \, Oh\, 45750\, United States;X-APPLE-RADIUS=100;X-TITLE=First Congregatio
 nal Church:geo:0,0
END:VEVENT
BEGIN:VTIMEZONE
TZID:America/New_York
X-LIC-LOCATION:America/New_York
BEGIN:DAYLIGHT
DTSTART:20260308T030000
TZOFFSETFROM:-0500
TZOFFSETTO:-0400
TZNAME:EDT
END:DAYLIGHT
END:VTIMEZONE
END:VCALENDAR