BEGIN:VCALENDAR
VERSION:2.0
PRODID:-//wp-events-plugin.com//7.2.3.1//EN
TZID:America/New_York
X-WR-TIMEZONE:America/New_York
BEGIN:VEVENT
UID:2096@mariettaohio.org
DTSTART;TZID=America/New_York:20250920T120000
DTEND;TZID=America/New_York:20250920T150000
DTSTAMP:20250131T141828Z
URL:https://mariettaohio.org/events/marietta-main-street-dachshund-derby/
SUMMARY:Marietta Main Street Dachshund Derby
DESCRIPTION:Save the date for our 2nd Annual Dachshund Derby that will be h
 eld on Saturday\, September 20th! You will not want to miss this event whi
 ch will be filled with dachshund races\, contests\, and even a doggie para
 de.\n\nLearn more and Register your weenie(s) at:\nhttps://form.jotform.co
 m/250294031293148
ATTACH;FMTTYPE=image/jpeg:https://mariettaohio.org/wp-content/uploads/2025
 /01/2025-derby.jpg
CATEGORIES:Community,Events
LOCATION:The Armory Lawn\, 241 Front Street\, Marietta\, Ohio\, Ohio\, 4575
 0\, United States
X-APPLE-STRUCTURED-LOCATION;VALUE=URI;X-ADDRESS=241 Front Street\, Marietta
 \, Ohio\, Ohio\, 45750\, United States;X-APPLE-RADIUS=100;X-TITLE=The Armo
 ry Lawn:geo:0,0
END:VEVENT
BEGIN:VTIMEZONE
TZID:America/New_York
X-LIC-LOCATION:America/New_York
BEGIN:DAYLIGHT
DTSTART:20250309T030000
TZOFFSETFROM:-0500
TZOFFSETTO:-0400
TZNAME:EDT
END:DAYLIGHT
END:VTIMEZONE
END:VCALENDAR