BEGIN:VCALENDAR
VERSION:2.0
PRODID:-//wp-events-plugin.com//7.2.3.1//EN
TZID:America/New_York
X-WR-TIMEZONE:America/New_York
BEGIN:VEVENT
UID:2111@mariettaohio.org
DTSTART;TZID=America/New_York:20250502T180000
DTEND;TZID=America/New_York:20250502T210000
DTSTAMP:20250212T155206Z
URL:https://mariettaohio.org/events/marietta-first-friday/
SUMMARY:Marietta First Friday
DESCRIPTION:Marietta Chapter tent\, French themed with Lafayette Bicentenni
 al featured\, America 250 &amp\; Color Guard event- First person interpret
 ers &amp\; musicians throughout downtown\; French themed food and beverage
 s in restaurants.
CATEGORIES:Events
LOCATION:Armory\, 241 Front Street\, Marietta\, OHIO\, 45750\, United State
 s
X-APPLE-STRUCTURED-LOCATION;VALUE=URI;X-ADDRESS=241 Front Street\, Marietta
 \, OHIO\, 45750\, United States;X-APPLE-RADIUS=100;X-TITLE=Armory:geo:0,0
END:VEVENT
BEGIN:VTIMEZONE
TZID:America/New_York
X-LIC-LOCATION:America/New_York
BEGIN:DAYLIGHT
DTSTART:20250309T030000
TZOFFSETFROM:-0500
TZOFFSETTO:-0400
TZNAME:EDT
END:DAYLIGHT
END:VTIMEZONE
END:VCALENDAR