BEGIN:VCALENDAR
VERSION:2.0
PRODID:-//wp-events-plugin.com//7.2.3.1//EN
TZID:America/New_York
X-WR-TIMEZONE:America/New_York
BEGIN:VEVENT
UID:2962@mariettaohio.org
DTSTART;TZID=America/New_York:20260425T100000
DTEND;TZID=America/New_York:20260426T130000
DTSTAMP:20260330T135906Z
URL:https://mariettaohio.org/events/marietta-earth-day-celebration-4/
SUMMARY:Marietta Earth Day Celebration
DESCRIPTION:Marietta’s Earth Day Celebration will be Saturday\, April 25t
 h\, 2026\, from 10 am to 1 pm at Armory Square. There will be crafts\, act
 ivities and educational displays focused on the environment including the 
 return of the raptors\, native fish and river turtles! Free and Fun for al
 l ages. Music by High Schools that Rock.
ATTACH;FMTTYPE=image/jpeg:https://mariettaohio.org/wp-content/uploads/2026
 /03/IMG_3983-scaled.jpg
CATEGORIES:Events
LOCATION:Armory Square Lawn\, 241 Front Street\, Marietta\, OH\, 45750\, Un
 ited States
GEO:39.413178;-81.455321
X-APPLE-STRUCTURED-LOCATION;VALUE=URI;X-ADDRESS=241 Front Street\, Marietta
 \, OH\, 45750\, United States;X-APPLE-RADIUS=100;X-TITLE=Armory Square Law
 n:geo:39.413178,-81.455321
END:VEVENT
BEGIN:VTIMEZONE
TZID:America/New_York
X-LIC-LOCATION:America/New_York
BEGIN:DAYLIGHT
DTSTART:20260308T030000
TZOFFSETFROM:-0500
TZOFFSETTO:-0400
TZNAME:EDT
END:DAYLIGHT
END:VTIMEZONE
END:VCALENDAR