BEGIN:VCALENDAR
VERSION:2.0
PRODID:-//wp-events-plugin.com//7.2.3.1//EN
TZID:America/New_York
X-WR-TIMEZONE:America/New_York
BEGIN:VEVENT
UID:3028@mariettaohio.org
DTSTART;TZID=America/New_York:20260509T200000
DTEND;TZID=America/New_York:20260509T220000
DTSTAMP:20260413T175154Z
URL:https://mariettaohio.org/events/mamma-mia-musical-movie-at-peoples-ban
 k-theatre/
SUMMARY:Mamma Mia! Musical Movie at Peoples Bank Theatre
DESCRIPTION:Treat your MOM to a musical movie at Peoples Bank Theatre on Mo
 ther's Day weekend! $15 per person\, in advance or at the door. Free popco
 rn for ticket holders. Other concessions available for purchase. www.peopl
 esbanktheatre.com 740-371-5152
CATEGORIES:Arts &amp; Entertainment,Historical
LOCATION:Peoples Bank Theatre\, 222 Putnam St\, Marietta\, Ohio\, 45750\, U
 nited States
GEO:39.415852;-81.453433
X-APPLE-STRUCTURED-LOCATION;VALUE=URI;X-ADDRESS=222 Putnam St\, Marietta\, 
 Ohio\, 45750\, United States;X-APPLE-RADIUS=100;X-TITLE=Peoples Bank Theat
 re:geo:39.415852,-81.453433
END:VEVENT
BEGIN:VTIMEZONE
TZID:America/New_York
X-LIC-LOCATION:America/New_York
BEGIN:DAYLIGHT
DTSTART:20260308T030000
TZOFFSETFROM:-0500
TZOFFSETTO:-0400
TZNAME:EDT
END:DAYLIGHT
END:VTIMEZONE
END:VCALENDAR