BEGIN:VCALENDAR
VERSION:2.0
PRODID:-//wp-events-plugin.com//7.2.3.1//EN
TZID:America/New_York
X-WR-TIMEZONE:America/New_York
BEGIN:VEVENT
UID:3002@mariettaohio.org
DTSTART;TZID=America/New_York:20261003T090000
DTEND;TZID=America/New_York:20261004T210000
DTSTAMP:20260401T165945Z
URL:https://mariettaohio.org/events/lowell-octoberfest-2/
SUMMARY:Lowell Octoberfest
DESCRIPTION:Buell Island is home to a seven plus acre park located in the V
 illage of Lowell\, where Lowell Octoberfest takes place the second weekend
  in October. The weekend festivities include live entertainment\, flea mar
 ket\, beer garden\, and a raffle of handmade items. Most importantly\, the
  festival offers a variety of German food\, including its crowd-favorite G
 erman potato salad\n\n\n\n\nFestival runs Saturday and Sunday\, October 3r
 d and 4th.\n\n\n\n\n
ATTACH;FMTTYPE=image/jpeg:https://mariettaohio.org/wp-content/uploads/2026
 /04/LowellOctoberfest1-800x600-1.jpg
CATEGORIES:Events,Festivals,Food &amp; Drink,Music
LOCATION:Buell Island\, 300 Main Street\, Lowell\, Ohio\, 45744\, United St
 ates
X-APPLE-STRUCTURED-LOCATION;VALUE=URI;X-ADDRESS=300 Main Street\, Lowell\, 
 Ohio\, 45744\, United States;X-APPLE-RADIUS=100;X-TITLE=Buell Island:geo:0
 ,0
END:VEVENT
BEGIN:VTIMEZONE
TZID:America/New_York
X-LIC-LOCATION:America/New_York
BEGIN:DAYLIGHT
DTSTART:20260308T030000
TZOFFSETFROM:-0500
TZOFFSETTO:-0400
TZNAME:EDT
END:DAYLIGHT
END:VTIMEZONE
END:VCALENDAR