BEGIN:VCALENDAR
VERSION:2.0
PRODID:-//wp-events-plugin.com//7.2.3.1//EN
TZID:America/New_York
X-WR-TIMEZONE:America/New_York
BEGIN:VEVENT
UID:1516@mariettaohio.org
DTSTART;TZID=America/New_York:20240526T090000
DTEND;TZID=America/New_York:20240526T170000
DTSTAMP:20240501T192033Z
URL:https://mariettaohio.org/events/lowell-lock-cruise/
SUMMARY:Lowell Lock Cruise
DESCRIPTION:Join us for a Muskingum River Lock trip through two of the hand
  operated locks and one side cut canal. The day will begin at 9am with a f
 ull hot breakfast as we travel up the Muskingum. We will lock through Devo
 la\, and Lowell and travel through the Lowell canal. Lunch will be served 
 and we will begin our journey back down river. We will return around 5pm.\
 n\nMay 26th. $78 per person. Reservations are required. Call 740-373-7862 
 or visit www.valleygemsternwheeler.com
ATTACH;FMTTYPE=image/jpeg:https://mariettaohio.org/wp-content/uploads/2024
 /05/Lowell-Lock-Cruise.jpg
CATEGORIES:Tours
LOCATION:Valley Gem Sternwheeler\, 601 Front Street\, Marietta\, Ohio\, 457
 50\, United States
GEO:39.4210179;-81.463992
X-APPLE-STRUCTURED-LOCATION;VALUE=URI;X-ADDRESS=601 Front Street\, Marietta
 \, Ohio\, 45750\, United States;X-APPLE-RADIUS=100;X-TITLE=Valley Gem Ster
 nwheeler:geo:39.4210179,-81.463992
END:VEVENT
BEGIN:VTIMEZONE
TZID:America/New_York
X-LIC-LOCATION:America/New_York
BEGIN:DAYLIGHT
DTSTART:20240310T030000
TZOFFSETFROM:-0500
TZOFFSETTO:-0400
TZNAME:EDT
END:DAYLIGHT
END:VTIMEZONE
END:VCALENDAR