BEGIN:VCALENDAR
VERSION:2.0
PRODID:-//wp-events-plugin.com//7.2.3.1//EN
TZID:America/New_York
X-WR-TIMEZONE:America/New_York
BEGIN:VEVENT
UID:2112@mariettaohio.org
DTSTART;TZID=America/New_York:20250510T190000
DTEND;TZID=America/New_York:20250510T190000
DTSTAMP:20250212T160921Z
URL:https://mariettaohio.org/events/local-connections-with-1775-seizure-of
 -fort-ticonderoga/
SUMMARY:Local Connections with 1775 Seizure of Fort Ticonderoga
DESCRIPTION:Local connections with 1775 seizure of Fort Ticonderoga\, Gener
 al Samuel Holden Parsons\, Benidict Arnold and Ethan Allen and Green Mount
 ain Boys at Start at Westward Monument: American 250 and Color Guard event
 . In case of bad weather First Congregational Church.\n\n&nbsp\;\n\nFor mo
 re information\, please contact Marietta Chapter\, Ohio Society\, Sons of 
 the American Revolution Secretary Jean Yost at 740-336-8060 or jean.yost@g
 mail.com\; mariettasar.com
ATTACH;FMTTYPE=image/jpeg:https://mariettaohio.org/wp-content/uploads/2025
 /02/334947241_1272832006976930_5622293435421606585_n-2.jpg
CATEGORIES:Events
LOCATION:Muskingum Park\, 310 Front Street\, Marietta\, Ohio\, 45750\, Unit
 ed States
X-APPLE-STRUCTURED-LOCATION;VALUE=URI;X-ADDRESS=310 Front Street\, Marietta
 \, Ohio\, 45750\, United States;X-APPLE-RADIUS=100;X-TITLE=Muskingum Park:
 geo:0,0
END:VEVENT
BEGIN:VTIMEZONE
TZID:America/New_York
X-LIC-LOCATION:America/New_York
BEGIN:DAYLIGHT
DTSTART:20250309T030000
TZOFFSETFROM:-0500
TZOFFSETTO:-0400
TZNAME:EDT
END:DAYLIGHT
END:VTIMEZONE
END:VCALENDAR