BEGIN:VCALENDAR
VERSION:2.0
PRODID:-//wp-events-plugin.com//7.2.3.1//EN
TZID:America/New_York
X-WR-TIMEZONE:America/New_York
BEGIN:VEVENT
UID:3055@mariettaohio.org
DTSTART;TZID=America/New_York:20260430T183000
DTEND;TZID=America/New_York:20260430T200000
DTSTAMP:20260423T134619Z
URL:https://mariettaohio.org/events/live-music-at-the-anchorage-mansion/
SUMMARY:Live Music at The Anchorage Mansion
DESCRIPTION:We are hosting an musical event highlighting light classics and
  popular music from the 19th and early 20th centuries. The program will be
  performed on our recently acquired baby grand piano and our dormant-for-m
 any-decades 1890's reed organ.\nTime &amp\; Location\nApr 30\, 2026\, 6:30
  PM – 8:30 PM\n\nThe Anchorage\, 424 George St\, Marietta\, OH 45750\, U
 SA\n\nAbout the event\n· The Anchorage Music Room will see a live perform
 ance again after an 80 year break\n\n· Doors open 6:30pm\, music starts a
 t 7:00pm\, ends at 8:00pm\n\n· David Vrooman will sing 3 songs\n\n· Lizb
 eth Atkinson will play 3 songs on organ and 3 or more songs on the piano
ATTACH;FMTTYPE=image/jpeg:https://mariettaohio.org/wp-content/uploads/2026
 /04/unnamed.png
CATEGORIES:Arts &amp; Entertainment,Community,Events,Live Music
LOCATION:\, \, 
X-APPLE-STRUCTURED-LOCATION;VALUE=URI;X-ADDRESS=\, ;X-APPLE-RADIUS=100;X-TI
 TLE=:geo:0,0
END:VEVENT
BEGIN:VTIMEZONE
TZID:America/New_York
X-LIC-LOCATION:America/New_York
BEGIN:DAYLIGHT
DTSTART:20260308T030000
TZOFFSETFROM:-0500
TZOFFSETTO:-0400
TZNAME:EDT
END:DAYLIGHT
END:VTIMEZONE
END:VCALENDAR