BEGIN:VCALENDAR
VERSION:2.0
PRODID:-//wp-events-plugin.com//7.2.3.1//EN
TZID:America/New_York
X-WR-TIMEZONE:America/New_York
BEGIN:VEVENT
UID:3013@mariettaohio.org
DTSTART;TZID=America/New_York:20261129T180000
DTEND;TZID=America/New_York:20261129T200000
DTSTAMP:20260401T173236Z
URL:https://mariettaohio.org/events/lighting-of-the-holiday-tree-walk-at-e
 ast-muskingum-park/
SUMMARY:Lighting of the Holiday Tree Walk at East Muskingum Park
DESCRIPTION:
CATEGORIES:Community,Events
LOCATION:East Muskingum Park\, East Muskingum Park\, Marietta\, Ohio\, 4575
 0\, United States
GEO:39.4149549;-81.4570803
X-APPLE-STRUCTURED-LOCATION;VALUE=URI;X-ADDRESS=East Muskingum Park\, Marie
 tta\, Ohio\, 45750\, United States;X-APPLE-RADIUS=100;X-TITLE=East Musking
 um Park:geo:39.4149549,-81.4570803
END:VEVENT
BEGIN:VTIMEZONE
TZID:America/New_York
X-LIC-LOCATION:America/New_York
BEGIN:STANDARD
DTSTART:20261101T010000
TZOFFSETFROM:-0400
TZOFFSETTO:-0500
TZNAME:EST
END:STANDARD
END:VTIMEZONE
END:VCALENDAR