BEGIN:VCALENDAR
VERSION:2.0
PRODID:-//wp-events-plugin.com//7.2.3.1//EN
TZID:America/New_York
X-WR-TIMEZONE:America/New_York
BEGIN:VEVENT
UID:407@mariettaohio.org
DTSTART;TZID=America/New_York:20230212T100000
DTEND;TZID=America/New_York:20230212T140000
DTSTAMP:20230209T154938Z
URL:https://mariettaohio.org/events/levee-house-bistro-sunday-brunch/
SUMMARY:Levee House Bistro Sunday Brunch
DESCRIPTION:\nThe monthly Sunday Brunch is Sunday\, February 12th\, from 10
 am-2pm\n\n\nIf you haven’t checked out this menu yet\, you really need t
 o!!\n\n\nReservations are not required but are recommended.\n\n\n740-371-7
 035\n\n\n
ATTACH;FMTTYPE=image/jpeg:https://mariettaohio.org/wp-content/uploads/2023
 /02/Levee.jpg
CATEGORIES:Community,Events,Featured
LOCATION:Levee House Bistro\, 127 Ohio Street\, Marietta\, Ohio\, 45750\, U
 nited States
X-APPLE-STRUCTURED-LOCATION;VALUE=URI;X-ADDRESS=127 Ohio Street\, Marietta\
 , Ohio\, 45750\, United States;X-APPLE-RADIUS=100;X-TITLE=Levee House Bist
 ro:geo:0,0
END:VEVENT
BEGIN:VTIMEZONE
TZID:America/New_York
X-LIC-LOCATION:America/New_York
BEGIN:STANDARD
DTSTART:20221106T010000
TZOFFSETFROM:-0400
TZOFFSETTO:-0500
TZNAME:EST
END:STANDARD
END:VTIMEZONE
END:VCALENDAR