BEGIN:VCALENDAR
VERSION:2.0
PRODID:-//wp-events-plugin.com//7.2.3.1//EN
TZID:America/New_York
X-WR-TIMEZONE:America/New_York
BEGIN:VEVENT
UID:2277@mariettaohio.org
DTSTART;TZID=America/New_York:20250914T183000
DTEND;TZID=America/New_York:20250914T200000
DTSTAMP:20250519T122053Z
URL:https://mariettaohio.org/events/leisure-dragon-boat-paddling-5/
SUMMARY:Leisure dragon boat paddling
DESCRIPTION:The MOV’n Dragons invite the community to join them for laidb
 ack Sunday evening dragon boat paddling on the Muskingum River. Must be at
  least 18 years of age. No registration required. Simply show up at the Br
 oughton (Tiger Navy) Boathouse at 6:30 to get outfitted. We will be on the
  water from 7 – 8 p.m. Cost is $5. Personal Flotation Devices (PFDs) and
  paddles provided. Bring a water bottle and perhaps a hat and sunglasses. 
 This is a water activity\; dress appropriately. In case of bad weather or 
 river conditions\, cancellations will be posted on the MOV’n Dragons Fac
 ebook page https://www.facebook.com/MovnDragons\n\nA dragon boat is a 44 f
 oot-long water craft that seats 20 paddlers. Paddlers sit side by side in 
 10 rows and use a single paddle to propel the boat. A steers-person stands
  in the back of the boat and a drummer leads from the front. Dragon boats 
 originated centuries ago in China. Today\, there are dragon boat races thr
 oughout the world.
ATTACH;FMTTYPE=image/jpeg:https://mariettaohio.org/wp-content/uploads/2025
 /05/on-the-water-4.jpg
CATEGORIES:Community,Outdoor Recreation
LOCATION:Broughton (Tiger Navy) Boathouse\, 814 Gilman Ave\, Marietta\, OH\
 , 45750\, United States
X-APPLE-STRUCTURED-LOCATION;VALUE=URI;X-ADDRESS=814 Gilman Ave\, Marietta\,
  OH\, 45750\, United States;X-APPLE-RADIUS=100;X-TITLE=Broughton (Tiger Na
 vy) Boathouse:geo:0,0
END:VEVENT
BEGIN:VTIMEZONE
TZID:America/New_York
X-LIC-LOCATION:America/New_York
BEGIN:DAYLIGHT
DTSTART:20250309T030000
TZOFFSETFROM:-0500
TZOFFSETTO:-0400
TZNAME:EDT
END:DAYLIGHT
END:VTIMEZONE
END:VCALENDAR