BEGIN:VCALENDAR
VERSION:2.0
PRODID:-//wp-events-plugin.com//7.2.3.1//EN
TZID:America/New_York
X-WR-TIMEZONE:America/New_York
BEGIN:VEVENT
UID:1511@mariettaohio.org
DTSTART;TZID=America/New_York:20240503T160000
DTEND;TZID=America/New_York:20240503T220000
DTSTAMP:20240429T135526Z
URL:https://mariettaohio.org/events/kreamy-kreations-hand-dipped-ice-cream
 -grand-opening-2/
SUMMARY:Kreamy Kreations Hand-Dipped Ice Cream Grand Opening
DESCRIPTION:Join us for our 2024 Grand Opening on Friday\, May 3rd!
ATTACH;FMTTYPE=image/jpeg:https://mariettaohio.org/wp-content/uploads/2024
 /04/KK_GrandOpening24_Social-2-1.jpg
CATEGORIES:Featured
LOCATION:Kreamy Kreations\, 112 Greene Street \, Marietta \, Ohio\, 45750\,
  United States
X-APPLE-STRUCTURED-LOCATION;VALUE=URI;X-ADDRESS=112 Greene Street \, Mariet
 ta \, Ohio\, 45750\, United States;X-APPLE-RADIUS=100;X-TITLE=Kreamy Kreat
 ions:geo:0,0
END:VEVENT
BEGIN:VTIMEZONE
TZID:America/New_York
X-LIC-LOCATION:America/New_York
BEGIN:DAYLIGHT
DTSTART:20240310T030000
TZOFFSETFROM:-0500
TZOFFSETTO:-0400
TZNAME:EDT
END:DAYLIGHT
END:VTIMEZONE
END:VCALENDAR