BEGIN:VCALENDAR
VERSION:2.0
PRODID:-//wp-events-plugin.com//7.2.3.1//EN
TZID:America/New_York
X-WR-TIMEZONE:America/New_York
BEGIN:VEVENT
UID:3052@mariettaohio.org
DTSTART;TZID=America/New_York:20260509T200000
DTEND;TZID=America/New_York:20260510T000000
DTSTAMP:20260421T182431Z
URL:https://mariettaohio.org/events/kate-consentino/
SUMMARY:Kate Consentino
DESCRIPTION:Kate Cosentino: Nashville pop-rock with witty\, raw takes on mo
 dern life. The Voice alum blends hooks &amp\; satire\; debut album “Weir
 dly Normal”\n\nKate Cosentino is a Nashville-based pop-rock singer-songw
 riter known for her sharp irony\, emotional honesty\, and painfully accura
 te observations on modern life. Armed with a St. Vincent-signature guitar 
 and a biting sense of self-awareness\, her music explores the liminal spac
 e between childhood and adulthood — from the modern dating trashheap to 
 the pursuit of success.\n\nA trained jazz guitarist from Kansas City\, Kat
 e’s sonic identity blends groovy hooks with modern electro-pop productio
 n. Her sound sits at the unlikely intersection of Remi Wolf and Weezer\, p
 airing playful production with emotionally grounded songwriting. Drawing i
 nspiration from artists like Regina Spektor and Sara Bareilles\, Kate spea
 ks candidly about her world and woes — balancing vulnerability with Bo B
 urnham-esque observational detail.\n\nRather than restricting herself to p
 alatable themes\, Kate takes the path less traveled. She writes about comm
 itment issues (“Emergency Contact”)\, the broken modern beauty standar
 d (“Prettiest Girl in the Room”)\, and feeling less like an adult and 
 more like a Shirley-Temple-sipping tween (“Two Kids in a Trench Coat”)
 . At the core\, every track feels like a voice note from your wittiest fri
 end - deeply specific yet impossible not to relate to.\n\nSince her appear
 ance on Season 23 of The Voice (Team Niall)\, Kate has been featured in pu
 blications including Billboard\, NPR\, and American Songwriter. Her debut 
 EP\, Note to Self\, was picked up by Rolling Stone India\, and last year s
 he embarked on her first U.S. tour\, As Seen on TV. She has opened for maj
 or artists including Niall Horan\, Judah &amp\; The Lion\, Ricky Montgomer
 y\, and Katy Perry.\n\nA fixture in the Nashville music scene\, Kate has c
 ollaborated with Melina KB\, Jean Saint Lazarus and Molly Grace\, while al
 so lending her guitar talent to Chaislyn and background vocals to Tabitha 
 Meekes — further cementing her reputation as both a songwriter and a mus
 ician’s musician.\n\nThis summer\, Kate plans to release her debut album
 \, Weirdly Normal — a time capsule of life as it exists right now. From 
 AI taking over to a failing job market\, the album flips heavy subjects on
  their head\, turning existential dread into quirky satire. Sonically\, th
 e record leans into 2000s pop-rock with an experimental use of synthesizer
 s and distortion\, a nod to technology’s ever-present intrusion into mod
 ern life. The album is Kate’s most fully realized work to date\, capturi
 ng a generation caught between nostalgia and uncertainty.\n\nKate does not
  claim to have the answers and her music isn’t interested in easy resolu
 tions. Instead\, it asks better questions — about identity\, expectation
 \, and the cultural moment we’re all trying to survive. In doing so\, he
 r songs are a reminder that feeling out of place might be the most honest 
 place to start.\n\nBuy Tickets
ATTACH;FMTTYPE=image/jpeg:https://mariettaohio.org/wp-content/uploads/2026
 /04/ADL-04758-Kate-Consentino-FEATURE.jpg
CATEGORIES:Music
LOCATION:The Adelphia Music Hall\, 205 2nd St\, Marietta\, OH\, 45750\, Uni
 ted States
GEO:39.413719;-81.453701
X-APPLE-STRUCTURED-LOCATION;VALUE=URI;X-ADDRESS=205 2nd St\, Marietta\, OH\
 , 45750\, United States;X-APPLE-RADIUS=100;X-TITLE=The Adelphia Music Hall
 :geo:39.413719,-81.453701
END:VEVENT
BEGIN:VTIMEZONE
TZID:America/New_York
X-LIC-LOCATION:America/New_York
BEGIN:DAYLIGHT
DTSTART:20260308T030000
TZOFFSETFROM:-0500
TZOFFSETTO:-0400
TZNAME:EDT
END:DAYLIGHT
END:VTIMEZONE
END:VCALENDAR