BEGIN:VCALENDAR
VERSION:2.0
PRODID:-//wp-events-plugin.com//7.2.3.1//EN
TZID:America/New_York
X-WR-TIMEZONE:America/New_York
BEGIN:VEVENT
UID:2269@mariettaohio.org
DTSTART;TZID=America/New_York:20250627T200000
DTEND;TZID=America/New_York:20250628T000000
DTSTAMP:20250508T190115Z
URL:https://mariettaohio.org/events/john-inghram-band/
SUMMARY:John Inghram Band
DESCRIPTION:Get ready for a captivating journey through 60’s and 70’s r
 ock\, as Inghram blends modern experiences with vintage sounds to create a
 n atmosphere that makes time feel both circular and timeless. His unique b
 lend of nostalgia and innovation will have you feeling both present and im
 mersed in a distant past.\n\nWith a deep well of musical knowledge and exp
 erience\, Inghram has carved out his own distinct musical voice on his deb
 ut record. In a world where we often get lost in memories of the past or d
 reams of the future\, Inghram invites listeners to step into a refreshing\
 , existential yet joyful mindset. After years of uncertainty and challenge
 s\, he brings a much-needed sense of peace and gratitude. “Now that I ha
 ve a beautiful family and life is better than I ever imagined\,” he says
 \, “I just want to live fully in this moment and give everything I have 
 to offer.”\n\nJoin us for a night of pure joy and incredible music that 
 will transport you to a place where the past\, present\, and future all co
 nverge.
ATTACH;FMTTYPE=image/jpeg:https://mariettaohio.org/wp-content/uploads/2025
 /05/ADL-04430-John-Inghram-Band_FEATURE.jpg
CATEGORIES:Music
LOCATION:The Adelphia Music Hall\, 205 2nd St\, Marietta\, OH\, 45750\, Uni
 ted States
GEO:39.413719;-81.453701
X-APPLE-STRUCTURED-LOCATION;VALUE=URI;X-ADDRESS=205 2nd St\, Marietta\, OH\
 , 45750\, United States;X-APPLE-RADIUS=100;X-TITLE=The Adelphia Music Hall
 :geo:39.413719,-81.453701
END:VEVENT
BEGIN:VTIMEZONE
TZID:America/New_York
X-LIC-LOCATION:America/New_York
BEGIN:DAYLIGHT
DTSTART:20250309T030000
TZOFFSETFROM:-0500
TZOFFSETTO:-0400
TZNAME:EDT
END:DAYLIGHT
END:VTIMEZONE
END:VCALENDAR