BEGIN:VCALENDAR
VERSION:2.0
PRODID:-//wp-events-plugin.com//7.2.3.1//EN
TZID:America/New_York
X-WR-TIMEZONE:America/New_York
BEGIN:VEVENT
UID:1122@mariettaohio.org
DTSTART;TZID=America/New_York:20231215T180000
DTEND;TZID=America/New_York:20231215T200000
DTSTAMP:20231017T141358Z
URL:https://mariettaohio.org/events/its-a-wonderful-life-radio-show-4/
SUMMARY:It's A Wonderful Life Radio Show
DESCRIPTION:Come and enjoy the classic Christmas movie\, It's a Wonderful L
 ife\, as a live radio program. This is a fun and different way to relive a
  story we all know and love. A delicious dinner will be served as we cruis
 e on the Ohio River and you enjoy the live presentation. Reservations are 
 required.
ATTACH;FMTTYPE=image/jpeg:https://mariettaohio.org/wp-content/uploads/2023
 /10/Its-a-Wonderful-Life-1.jpg
CATEGORIES:Events
LOCATION:Valley Gem Sternwheeler\, 601 Front St\, Marietta\, Ohio\, 45750\,
  United States
GEO:39.421017;-81.463989
X-APPLE-STRUCTURED-LOCATION;VALUE=URI;X-ADDRESS=601 Front St\, Marietta\, O
 hio\, 45750\, United States;X-APPLE-RADIUS=100;X-TITLE=Valley Gem Sternwhe
 eler:geo:39.421017,-81.463989
END:VEVENT
BEGIN:VTIMEZONE
TZID:America/New_York
X-LIC-LOCATION:America/New_York
BEGIN:STANDARD
DTSTART:20231105T010000
TZOFFSETFROM:-0400
TZOFFSETTO:-0500
TZNAME:EST
END:STANDARD
END:VTIMEZONE
END:VCALENDAR