BEGIN:VCALENDAR
VERSION:2.0
PRODID:-//wp-events-plugin.com//7.2.3.1//EN
TZID:America/New_York
X-WR-TIMEZONE:America/New_York
BEGIN:VEVENT
UID:1382@mariettaohio.org
DTSTART;TZID=America/New_York:20240127T180000
DTEND;TZID=America/New_York:20240127T180000
DTSTAMP:20240122T140950Z
URL:https://mariettaohio.org/events/italian-feast-at-the-major-riviera/
SUMMARY:Italian Feast at the Major/Riviera
DESCRIPTION:Join us on Saturday\, January 27 at 6pm for an Italian Feast at
  the Major/Riviera. This will be offered as a served buffet and will featu
 re classic Italian food throughout the menu. Watch our Facebook page for m
 enu details. Price includes dinner\, coffee\, tea\, water and soda. A cash
  bar will be available throughout the evening.\n\n$28 for Adults\, $26 for
  Seniors\, $18 for Children 3-12\n\nhttps://www.valleygemsternwheeler.com/
 book-major--riviera.html
ATTACH;FMTTYPE=image/jpeg:https://mariettaohio.org/wp-content/uploads/2024
 /01/Italian-Night-1.jpg
CATEGORIES:Events
LOCATION:Major/Riviera\, 601 Front Street\, Marietta\, OH\, 45750\, United 
 States
X-APPLE-STRUCTURED-LOCATION;VALUE=URI;X-ADDRESS=601 Front Street\, Marietta
 \, OH\, 45750\, United States;X-APPLE-RADIUS=100;X-TITLE=Major/Riviera:geo
 :0,0
END:VEVENT
BEGIN:VTIMEZONE
TZID:America/New_York
X-LIC-LOCATION:America/New_York
BEGIN:STANDARD
DTSTART:20231105T010000
TZOFFSETFROM:-0400
TZOFFSETTO:-0500
TZNAME:EST
END:STANDARD
END:VTIMEZONE
END:VCALENDAR