BEGIN:VCALENDAR
VERSION:2.0
PRODID:-//wp-events-plugin.com//7.2.3.1//EN
TZID:America/New_York
X-WR-TIMEZONE:America/New_York
BEGIN:VEVENT
UID:2846@mariettaohio.org
DTSTART;TZID=America/New_York:20260711T100000
DTEND;TZID=America/New_York:20260711T140000
DTSTAMP:20260211T155416Z
URL:https://mariettaohio.org/events/history-in-the-park-3/
SUMMARY:History In The Park
DESCRIPTION:Museums\, historical groups and any organization that can share
  the history of Southeaster Ohio and northwestern West Virginia. Open to t
 he public and free of charge.\n\nSome very special guests will be in atten
 dance!
ATTACH;FMTTYPE=image/jpeg:https://mariettaohio.org/wp-content/uploads/2026
 /02/History-in-the-Park-1-3.png
CATEGORIES:Historical
LOCATION:Muskingum Park\, 310 Front Street\, Marietta\, Ohio\, 45750\, Unit
 ed States
X-APPLE-STRUCTURED-LOCATION;VALUE=URI;X-ADDRESS=310 Front Street\, Marietta
 \, Ohio\, 45750\, United States;X-APPLE-RADIUS=100;X-TITLE=Muskingum Park:
 geo:0,0
END:VEVENT
BEGIN:VTIMEZONE
TZID:America/New_York
X-LIC-LOCATION:America/New_York
BEGIN:DAYLIGHT
DTSTART:20260308T030000
TZOFFSETFROM:-0500
TZOFFSETTO:-0400
TZNAME:EDT
END:DAYLIGHT
END:VTIMEZONE
END:VCALENDAR