BEGIN:VCALENDAR
VERSION:2.0
PRODID:-//wp-events-plugin.com//7.2.3.1//EN
TZID:America/New_York
X-WR-TIMEZONE:America/New_York
BEGIN:VEVENT
UID:2983@mariettaohio.org
DTSTART;TZID=America/New_York:20260706T090000
DTEND;TZID=America/New_York:20260710T150000
DTSTAMP:20260401T144742Z
URL:https://mariettaohio.org/events/history-camp-expansion-change-1820-184
 0/
SUMMARY:History Camp: Expansion & Change 1820–1840
DESCRIPTION:Travel back in time with a 5-day camp filled with historic hand
 s-on activities for students in grades 3rd–6th! In this year’s camp\, 
 we’ll explore the local\, state\, national\, and global events of 1820
 –1840—a time of rapid growth\, reform\, and innovation. From the const
 ruction of Ohio’s canals and the rise of early industry to social moveme
 nts for abolition\, temperance\, and education.\nCampers will be immersed 
 in engaging activities such as crafts\, games\, tours\, music\, dancing\, 
 and more! Join us for a fun-filled\, educational week.\nRegistration fees 
 include all materials\, activities\, and tours.\nCampers (Students Enterin
 g Grades 3rd - 6th in Fall 2026)\nCamper Registration:\n$30 per Day\n$125 
 per Week\nLimited scholarships are available. Space is limited. Pre-regist
 ration required by June 19\nAfter June 20\, Call 740-373-4180 to inquire a
 bout availability.\n(For a full refund\, cancellations must occur 2 weeks 
 in advance – June 22.)\nCamp size is limited to 40 campers on a first co
 me first served basis.
ATTACH;FMTTYPE=image/jpeg:https://mariettaohio.org/wp-content/uploads/2026
 /04/504299311_1267873878671881_364792563431628216_n.webp
CATEGORIES:Community,Historical
LOCATION:The Castle\, 418 Fourth Street\, Marietta\, Ohio\, United States
GEO:39.4205438;-81.4548917
X-APPLE-STRUCTURED-LOCATION;VALUE=URI;X-ADDRESS=418 Fourth Street\, Mariett
 a\, Ohio\, United States;X-APPLE-RADIUS=100;X-TITLE=The Castle:geo:39.4205
 438,-81.4548917
END:VEVENT
BEGIN:VTIMEZONE
TZID:America/New_York
X-LIC-LOCATION:America/New_York
BEGIN:DAYLIGHT
DTSTART:20260308T030000
TZOFFSETFROM:-0500
TZOFFSETTO:-0400
TZNAME:EDT
END:DAYLIGHT
END:VTIMEZONE
END:VCALENDAR