BEGIN:VCALENDAR
VERSION:2.0
PRODID:-//wp-events-plugin.com//7.2.3.1//EN
TZID:America/New_York
X-WR-TIMEZONE:America/New_York
BEGIN:VEVENT
UID:3054@mariettaohio.org
DTSTART;TZID=America/New_York:20260613T110000
DTEND;TZID=America/New_York:20260613T150000
DTSTAMP:20260423T134630Z
URL:https://mariettaohio.org/events/hey-man-you-matter/
SUMMARY:Hey Man You Matter
DESCRIPTION:Free Men's Mental Health &amp\; Wellness Community Event.\nVend
 ors include:\nFood and nutrition\, mental and physical wellness\, healthy 
 hobbies\, outdoor activities\, and other community resources.
ATTACH;FMTTYPE=image/jpeg:https://mariettaohio.org/wp-content/uploads/2026
 /04/Hey-Man-You-Matter-Document.jpg
CATEGORIES:Community,Education,Events
LOCATION:Broughton Community Buiding\, 619 State Route 821\, Marietta\, Oh\
 , 45750\, United States
X-APPLE-STRUCTURED-LOCATION;VALUE=URI;X-ADDRESS=619 State Route 821\, Marie
 tta\, Oh\, 45750\, United States;X-APPLE-RADIUS=100;X-TITLE=Broughton Comm
 unity Buiding:geo:0,0
END:VEVENT
BEGIN:VTIMEZONE
TZID:America/New_York
X-LIC-LOCATION:America/New_York
BEGIN:DAYLIGHT
DTSTART:20260308T030000
TZOFFSETFROM:-0500
TZOFFSETTO:-0400
TZNAME:EDT
END:DAYLIGHT
END:VTIMEZONE
END:VCALENDAR