BEGIN:VCALENDAR
VERSION:2.0
PRODID:-//wp-events-plugin.com//7.2.3.1//EN
TZID:America/New_York
X-WR-TIMEZONE:America/New_York
BEGIN:VEVENT
UID:2295@mariettaohio.org
DTSTART;TZID=America/New_York:20250621T183000
DTEND;TZID=America/New_York:20250621T203000
DTSTAMP:20250528T162203Z
URL:https://mariettaohio.org/events/hawaiian-luau-dinner-cruise-2/
SUMMARY:Hawaiian Luau Dinner Cruise
DESCRIPTION:Join us on the Valley Gem for a Hawaiian Luau Dinner Cruise on 
 June 21 from 6:30pm to 8:30pm. Put on your best Hawaiian shirt and come fo
 r some great food and lots of fun. Enjoy a Hawaiian inspired menu along wi
 th entertainment and a beautiful evening on the river.\n\n$46 for Adults\,
  $44 for Seniors\, $36 for Children 3-12\n\nBook online at www.valleygemst
 ernwheeler.com or call 740-373-7862
ATTACH;FMTTYPE=image/jpeg:https://mariettaohio.org/wp-content/uploads/2025
 /05/Hawaiian-Luan-Dinner-cruise-scaled.jpg
CATEGORIES:Arts &amp; Entertainment,Events
LOCATION:Major/Riviera\, 601 Front Street\, Marietta\, OH\, 45750\, United 
 States
X-APPLE-STRUCTURED-LOCATION;VALUE=URI;X-ADDRESS=601 Front Street\, Marietta
 \, OH\, 45750\, United States;X-APPLE-RADIUS=100;X-TITLE=Major/Riviera:geo
 :0,0
END:VEVENT
BEGIN:VTIMEZONE
TZID:America/New_York
X-LIC-LOCATION:America/New_York
BEGIN:DAYLIGHT
DTSTART:20250309T030000
TZOFFSETFROM:-0500
TZOFFSETTO:-0400
TZNAME:EDT
END:DAYLIGHT
END:VTIMEZONE
END:VCALENDAR