BEGIN:VCALENDAR
VERSION:2.0
PRODID:-//wp-events-plugin.com//7.2.3.1//EN
TZID:America/New_York
X-WR-TIMEZONE:America/New_York
BEGIN:VEVENT
UID:2339@mariettaohio.org
DTSTART;TZID=America/New_York;VALUE=DATE:20250725
DTEND;TZID=America/New_York;VALUE=DATE:20250728
DTSTAMP:20250602T153656Z
URL:https://mariettaohio.org/events/harmar-days-festival-2/
SUMMARY:HARMAR DAYS FESTIVAL
DESCRIPTION:\n\n\n\n\n\n\n\n\n\n\n\n\n\nThe Harmar Days Festival is an annu
 al community celebration held in Harmar Village\, Marietta\, Ohio\, typica
 lly on the last weekend of July. Organized by the Historic Harmar Bridge C
 ompany\, the festival aims to raise funds for the preservation and restora
 tion of the historic Harmar Bridge. The event spans several days and featu
 res a variety of activities for all ages.\n\n🎶 Entertainment\nThe festi
 val showcases a diverse lineup of live music performances\, with numerous 
 bands playing throughout the weekend. Past performances have included loca
 l acts such as the Sour Mash String Band\, Oyo\, and Hominid\, offering a 
 mix of genres to suit various musical tastes.\n\n🍴 Food and Vendors\nAt
 tendees can enjoy a wide array of food options from local food trucks and 
 vendors\, offering everything from barbecue and pierogies to ice cream and
  coffee. The festival also features craft and art vendors\, live art demon
 strations\, and a dedicated kids' zone with activities like a petting zoo\
 , foam garage\, inflatables\, and carnival games.\n\n🚗 Car Show\nA high
 light of the festival is the Mid-Ohio Valley Wide Trackers Car Show\, whic
 h showcases a variety of classic and custom vehicles. The car show typical
 ly runs for several hours\, allowing enthusiasts and visitors to admire th
 e vehicles on display.\n\n🎨 Art and Demonstrations\nThe festival emphas
 izes local artistry with live art demonstrations\, including pottery makin
 g\, tie-dyeing\, and stained glass creation. These sessions often feature 
 silent auctions\, allowing attendees to purchase unique pieces created dur
 ing the event.\n\n🎟️ Raffle\nA major fundraising component of the fes
 tival is the raffle\, with significant prizes such as vehicles and outdoor
  equipment. Raffle tickets are available for purchase at local businesses 
 and online\, with proceeds supporting the restoration efforts of the Harma
 r Bridge.\n\n🧘 Activities\nThe festival also offers wellness activities
 \, including yoga sessions led by local instructors\, providing attendees 
 with opportunities to relax and rejuvenate during the weekend festivities 
 .\nOverall\, Harmar Days Festival serves as a vibrant celebration of Marie
 tta's community spirit\, local talent\, and dedication to preserving its h
 istoric landmarks. For the most current information on dates\, activities\
 , and ticketing\, it's recommended to visit the official website or social
  media pages of the Historic Harmar Bridge Company.
ATTACH;FMTTYPE=image/jpeg:https://mariettaohio.org/wp-content/uploads/2025
 /06/Harmar-Days-Festival.jpg
CATEGORIES:Arts &amp; Entertainment,Events,Festivals,Music
END:VEVENT
BEGIN:VTIMEZONE
TZID:America/New_York
X-LIC-LOCATION:America/New_York
BEGIN:DAYLIGHT
DTSTART:20250309T030000
TZOFFSETFROM:-0500
TZOFFSETTO:-0400
TZNAME:EDT
END:DAYLIGHT
END:VTIMEZONE
END:VCALENDAR