BEGIN:VCALENDAR
VERSION:2.0
PRODID:-//wp-events-plugin.com//7.2.3.1//EN
TZID:America/New_York
X-WR-TIMEZONE:America/New_York
BEGIN:VEVENT
UID:57@mariettaohio.org
DTSTART;TZID=America/New_York:20221210T130000
DTEND;TZID=America/New_York:20221210T150000
DTSTAMP:20221116T164806Z
URL:https://mariettaohio.org/events/hardly-able-carriage-company-christmas
 -rides-4/
SUMMARY:Hardly Able Carriage Company Christmas Rides
DESCRIPTION:Visit Downtown Marietta this Christmas season and enjoy the bea
 utiful scenery of our historic town from a horse-drawn carriage ride\, com
 pliments of Teri Ann's.\n\nOperating on a first come\, first served basis\
 , you can get on the carriage outside the store at 290 Front Street.
ATTACH;FMTTYPE=image/jpeg:https://mariettaohio.org/wp-content/uploads/2022
 /11/Untitled-design-2-18.png
CATEGORIES:Events
LOCATION:Teri Ann's\, 290 Front Street\, Marietta\, Ohio\, 45750\, United S
 tates
GEO:39.414347;-81.455419
X-APPLE-STRUCTURED-LOCATION;VALUE=URI;X-ADDRESS=290 Front Street\, Marietta
 \, Ohio\, 45750\, United States;X-APPLE-RADIUS=100;X-TITLE=Teri Ann's:geo:
 39.414347,-81.455419
END:VEVENT
BEGIN:VTIMEZONE
TZID:America/New_York
X-LIC-LOCATION:America/New_York
BEGIN:STANDARD
DTSTART:20221106T010000
TZOFFSETFROM:-0400
TZOFFSETTO:-0500
TZNAME:EST
END:STANDARD
END:VTIMEZONE
END:VCALENDAR