BEGIN:VCALENDAR
VERSION:2.0
PRODID:-//wp-events-plugin.com//7.2.3.1//EN
TZID:America/New_York
X-WR-TIMEZONE:America/New_York
BEGIN:VEVENT
UID:935@mariettaohio.org
DTSTART;TZID=America/New_York:20231007T200000
DTEND;TZID=America/New_York:20231007T220000
DTSTAMP:20230724T174509Z
URL:https://mariettaohio.org/events/hank-my-honky-tonk-heroes-100-years-of
 -hank-williams/
SUMMARY:Hank &amp\; My Honky Tonk Heroes: 100 Years of Hank Williams
DESCRIPTION:Hank &amp\; My Honky Tonk Heroes is coming to Marietta on Satur
 day\, October 7. Get tickets from the official Peoples Bank Theatre websit
 e.
CATEGORIES:Arts &amp; Entertainment,Music
LOCATION:Peoples Bank Theatre\, 222 Putnam St\, Marietta\, Ohio\, 45750\, U
 nited States
GEO:39.415852;-81.453433
X-APPLE-STRUCTURED-LOCATION;VALUE=URI;X-ADDRESS=222 Putnam St\, Marietta\, 
 Ohio\, 45750\, United States;X-APPLE-RADIUS=100;X-TITLE=Peoples Bank Theat
 re:geo:39.415852,-81.453433
END:VEVENT
BEGIN:VTIMEZONE
TZID:America/New_York
X-LIC-LOCATION:America/New_York
BEGIN:DAYLIGHT
DTSTART:20230312T030000
TZOFFSETFROM:-0500
TZOFFSETTO:-0400
TZNAME:EDT
END:DAYLIGHT
END:VTIMEZONE
END:VCALENDAR