BEGIN:VCALENDAR
VERSION:2.0
PRODID:-//wp-events-plugin.com//7.2.3.1//EN
TZID:America/New_York
X-WR-TIMEZONE:America/New_York
BEGIN:VEVENT
UID:3042@mariettaohio.org
DTSTART;TZID=America/New_York:20260626T180000
DTEND;TZID=America/New_York:20260626T200000
DTSTAMP:20260416T125412Z
URL:https://mariettaohio.org/events/free-community-concert-featuring-dave-
 calendine/
SUMMARY:FREE COMMUNITY CONCERT FEATURING DAVE CALENDINE
DESCRIPTION:Enjoy an unforgettable evening of music as acclaimed organist D
 ave Calendine brings his dynamic style and decades of experience to the Oh
 io Valley Opry Theater. Featuring a lively mix of classic organ favorites 
 and patriotic tunes in honor of America 250\, this free\, family-friendly 
 concert offers something for all ages. Doors open at 6:00 PM with general 
 admission seating (no tickets required)\, and donations will be accepted t
 o support Washington County America 250 initiatives.
ATTACH;FMTTYPE=image/jpeg:https://mariettaohio.org/wp-content/uploads/2026
 /04/DAVE-CALENDINE-FLYER.png
CATEGORIES:Arts &amp; Entertainment,Community,Live Music
LOCATION:OHIO VALLEY OPRY HOUSE\, 1944 WASHINGTON BOULEVARD\, (BEHIND CELEB
 RATION CENTER CHURCH)\, BELPRE\, OHIO\, 45714\, United States
X-APPLE-STRUCTURED-LOCATION;VALUE=URI;X-ADDRESS=1944 WASHINGTON BOULEVARD\,
  (BEHIND CELEBRATION CENTER CHURCH)\, BELPRE\, OHIO\, 45714\, United State
 s;X-APPLE-RADIUS=100;X-TITLE=OHIO VALLEY OPRY HOUSE:geo:0,0
END:VEVENT
BEGIN:VTIMEZONE
TZID:America/New_York
X-LIC-LOCATION:America/New_York
BEGIN:DAYLIGHT
DTSTART:20260308T030000
TZOFFSETFROM:-0500
TZOFFSETTO:-0400
TZNAME:EDT
END:DAYLIGHT
END:VTIMEZONE
END:VCALENDAR