BEGIN:VCALENDAR
VERSION:2.0
PRODID:-//wp-events-plugin.com//7.2.3.1//EN
TZID:America/New_York
X-WR-TIMEZONE:America/New_York
BEGIN:VEVENT
UID:2582@mariettaohio.org
DTSTART;TZID=America/New_York:20251115T090000
DTEND;TZID=America/New_York:20251115T150000
DTSTAMP:20251027T130843Z
URL:https://mariettaohio.org/events/fort-frye-high-school-craft-show-2/
SUMMARY:Fort Frye High School Craft Show
DESCRIPTION:The 3rd Annual Fort Frye Craft Show will be held on Saturday\, 
 November 15th from 9-3 pm at Fort Frye High School\, located in Beverly\, 
 Ohio. This event hosts over 40 vendors to provide holiday shopping\, raffl
 es and a country store. The event is free and parking is also free and on-
 site.
ATTACH;FMTTYPE=image/jpeg:https://mariettaohio.org/wp-content/uploads/2025
 /10/Christmas-Craft-Show-October-20th-post.png
CATEGORIES:Festivals
LOCATION:Fort Frye High School\, 420 5th Street\, Beverly\, Ohio/Washington
 \, 45715\, Southeastern Ohio\, Washington County\, United States
X-APPLE-STRUCTURED-LOCATION;VALUE=URI;X-ADDRESS=420 5th Street\, Beverly\, 
 Ohio/Washington\, 45715\, Southeastern Ohio\, Washington County\, United S
 tates;X-APPLE-RADIUS=100;X-TITLE=Fort Frye High School:geo:0,0
END:VEVENT
BEGIN:VTIMEZONE
TZID:America/New_York
X-LIC-LOCATION:America/New_York
BEGIN:STANDARD
DTSTART:20251102T010000
TZOFFSETFROM:-0400
TZOFFSETTO:-0500
TZNAME:EST
END:STANDARD
END:VTIMEZONE
END:VCALENDAR