BEGIN:VCALENDAR
VERSION:2.0
PRODID:-//wp-events-plugin.com//7.2.3.1//EN
TZID:America/New_York
X-WR-TIMEZONE:America/New_York
BEGIN:VEVENT
UID:2850@mariettaohio.org
DTSTART;TZID=America/New_York:20260318T180000
DTEND;TZID=America/New_York:20260318T200000
DTSTAMP:20260218T192707Z
URL:https://mariettaohio.org/events/food-history-ohios-first-ladies/
SUMMARY:Food History: Ohio’s First Ladies
DESCRIPTION:Celebrate Women’s History Month with an inspiring evening exp
 loring the lives and legacies of Ohio’s First Ladies.\n\nJoin us for an 
 engaging evening with Stephanie Bohnak\, Director of Education &amp\; Cura
 torial Services at the National First Ladies Library &amp\; Museum\, as sh
 e brings to life the stories of Ohio’s influential First Ladies—women 
 whose leadership\, advocacy\, and resilience helped shape the nation. From
  championing education and women’s rights to balancing the public and pr
 ivate demands of the White House\, this program explores how Ohio’s Firs
 t Ladies used their voices and values to leave a lasting impact on America
 n history.\n\nEnhancing the conversation\, guests will enjoy a thoughtfull
 y curated three-course dinner inspired by historic recipes connected to Oh
 io’s First Ladies. Together\, the presentation and meal create a unique\
 , immersive evening of history\, storytelling\, and flavor.\n\nEvent Highl
 ights:\nA three-course dinner inspired by authentic historic recipes\nA li
 vely\, engaging presentation by Stephanie Bohnak\nAn immersive Women’s H
 istory Month experience blending food and storytelling\n\nWhether you're a
  history buff\, a foodie\, or both\, this immersive evening will feed your
  curiosity—and your appetite!\n\nFirst Course\nHayes’ Corn Soup\nGarfi
 eld’s Potato Bread\n\nSecond Course\nHarding’s Chicken Pot Pie Served 
 With Peas\n\nDessert Course\nHarrison’s Pound Cake\nMcKinley’s Whipped
  Cream &amp\; Cranberry\nTaft’s Salted Almond Cookie\nTime: 6pm – 8pm\
 n\nLocation:\nThe Basilica of Saint Mary of the Assumption\nSocial Hall\n5
 06 4th St.\, Marietta\, OH\n\nPrice:\n\n$46.50/Nonmembers\n$41.50/Castle M
 embers &amp\; Volunteers (Use Code "foodmember" at check out)\n\nHave a gr
 oup of 8 or more? Call about our group rate.\n\n**Reservations required by
  5pm Thursday\, March 12**\n\nHERE’S WHAT YOU NEED TO KNOW\n\nDietary re
 strictions should be noted before or upon making reservations and at the l
 atest by Thurs.\, March 12 by calling The Castle at 740-373-4180.\nSeating
  will be “family style” and in cases of groups of 7 or less we can’t
  guarantee table reservations. Ample seating will be available for individ
 uals and groups to have seating options.\nDoors open at 5:45pm to welcome 
 guests and allow them to find seats.\n\nGet tickets at MariettaCastle.org/
 Events!
ATTACH;FMTTYPE=image/jpeg:https://mariettaohio.org/wp-content/uploads/2026
 /02/LWHayes.jpg
CATEGORIES:Arts &amp; Entertainment,Community,Events,Featured,Historical
LOCATION:The Basilica of Saint Mary of the Assumption Social Hall\, 506 4th
  St\, Marietta\, Ohio\, 45750\, United States
X-APPLE-STRUCTURED-LOCATION;VALUE=URI;X-ADDRESS=506 4th St\, Marietta\, Ohi
 o\, 45750\, United States;X-APPLE-RADIUS=100;X-TITLE=The Basilica of Saint
  Mary of the Assumption Social Hall:geo:0,0
END:VEVENT
BEGIN:VTIMEZONE
TZID:America/New_York
X-LIC-LOCATION:America/New_York
BEGIN:DAYLIGHT
DTSTART:20260308T030000
TZOFFSETFROM:-0500
TZOFFSETTO:-0400
TZNAME:EDT
END:DAYLIGHT
END:VTIMEZONE
END:VCALENDAR