BEGIN:VCALENDAR
VERSION:2.0
PRODID:-//wp-events-plugin.com//7.2.3.1//EN
TZID:America/New_York
X-WR-TIMEZONE:America/New_York
BEGIN:VEVENT
UID:2279@mariettaohio.org
DTSTART;TZID=America/New_York:20251011T200000
DTEND;TZID=America/New_York:20251012T000000
DTSTAMP:20250528T133741Z
URL:https://mariettaohio.org/events/floyd-and-the-walkmen/
SUMMARY:FLOYD and The Walkmen
DESCRIPTION:Floyd and The Walkmen are a high-energy\, genre-blending cover 
 band based in the Cincinnati/Northern Kentucky area. Led by frontman Floyd
  Blackburn\, the group is renowned for delivering electrifying performance
 s that fuse jazz\, funk\, rock\, R&amp\;B\, and a touch of country flair. 
 Their dynamic shows are a staple at weddings\, festivals\, corporate event
 s\, and live music venues across the region.\n\nThe core five-piece lineup
  features:\n\nFloyd Blackburn – Lead Vocals\nGreg Slone – Drums\, Perc
 ussion\, Vocals\nNick Triantos – Guitar\, Vocals\nChris Barlow – Bass\
 , Vocals\nBrian Batchelor-Glader – Keyboard\n\nKnown for their versatili
 ty\, the band can expand to a 10-piece ensemble to suit larger events. The
 ir setlists span from the 1970s to today's hits\, ensuring a lively atmosp
 here that gets audiences dancing. Floyd and The Walkmen also offer acousti
 c performances and themed shows\, such as their unplugged grunge tribute\,
  "Polly's Jam\," celebrating the music of Pearl Jam and Nirvana.\n\nCatch 
 Floyd and The Walkmen live at the Adelphia Music Hall in Marietta\, Ohio\,
  for an unforgettable night of music and entertainment.
ATTACH;FMTTYPE=image/jpeg:https://mariettaohio.org/wp-content/uploads/2025
 /05/FLOYD-and-The-Walkmen_SOCIAL-1080x1080-1.jpg
CATEGORIES:Music
LOCATION:The Adelphia Music Hall\, 205 2nd St\, Marietta\, OH\, 45750\, Uni
 ted States
GEO:39.413719;-81.453701
X-APPLE-STRUCTURED-LOCATION;VALUE=URI;X-ADDRESS=205 2nd St\, Marietta\, OH\
 , 45750\, United States;X-APPLE-RADIUS=100;X-TITLE=The Adelphia Music Hall
 :geo:39.413719,-81.453701
END:VEVENT
BEGIN:VTIMEZONE
TZID:America/New_York
X-LIC-LOCATION:America/New_York
BEGIN:DAYLIGHT
DTSTART:20250309T030000
TZOFFSETFROM:-0500
TZOFFSETTO:-0400
TZNAME:EDT
END:DAYLIGHT
END:VTIMEZONE
END:VCALENDAR