BEGIN:VCALENDAR
VERSION:2.0
PRODID:-//wp-events-plugin.com//7.2.3.1//EN
TZID:America/New_York
X-WR-TIMEZONE:America/New_York
BEGIN:VEVENT
UID:2301@mariettaohio.org
DTSTART;TZID=America/New_York:20250619T183000
DTEND;TZID=America/New_York:20250619T210000
DTSTAMP:20250529T144127Z
URL:https://mariettaohio.org/events/flavors-of-cuba/
SUMMARY:Flavors of Cuba
DESCRIPTION:Flavors of Cuba\nExperience the vibrant tastes of Havana with a
  five-course Cuban dinner and a refreshing mojito.\nCuban-Inspired Menu\n\
 n\nFirst Course: Croquetas de Jamón\nCrispy ham and cheese bites\n\n\n\nS
 econd Course: Shrimp Ceviche on Tostones\nLime-marinated shrimp atop fried
  plantain chips\n\n\n\nThird Course: Mojo Pescado\nRed snapper served with
  sweet fried bananas\n\n\n\nFourth Course: Ropa Vieja with Congrí\nShredd
 ed flank steak stewed in tomato sauce\, accompanied by rice and black bean
 s\n\n\n\nFifth Course: Pastelito de Guayaba\nGuava-filled puff pastry with
  fresh whipped cream\n\n\n\n\n\nDate: Thursday\, June 19\, 2025\n\nTime: 6
 :30 PM\n\nPrice: $82 per person (includes tax\, gratuity\, and a welcome m
 ojito)\n\nLocation: The Galley\, 203 Second Street\, Historic Marietta\, O
 H\n\n\nReserve Your Seat
ATTACH;FMTTYPE=image/jpeg:https://mariettaohio.org/wp-content/uploads/2025
 /05/GAL-04444-Flavors-of-Cuba_SOCIAL_B.jpg
CATEGORIES:Events
LOCATION:The Galley\, 203 2nd Street \, Marietta\, Ohio\, 45750\, United St
 ates
X-APPLE-STRUCTURED-LOCATION;VALUE=URI;X-ADDRESS=203 2nd Street \, Marietta\
 , Ohio\, 45750\, United States;X-APPLE-RADIUS=100;X-TITLE=The Galley:geo:0
 ,0
END:VEVENT
BEGIN:VTIMEZONE
TZID:America/New_York
X-LIC-LOCATION:America/New_York
BEGIN:DAYLIGHT
DTSTART:20250309T030000
TZOFFSETFROM:-0500
TZOFFSETTO:-0400
TZNAME:EDT
END:DAYLIGHT
END:VTIMEZONE
END:VCALENDAR