BEGIN:VCALENDAR
VERSION:2.0
PRODID:-//wp-events-plugin.com//7.2.3.1//EN
TZID:America/New_York
X-WR-TIMEZONE:America/New_York
BEGIN:VEVENT
UID:2099@mariettaohio.org
DTSTART;TZID=America/New_York:20250309T150000
DTEND;TZID=America/New_York:20250309T160000
DTSTAMP:20250203T133219Z
URL:https://mariettaohio.org/events/first-congregational-church-united-chu
 rch-of-christ/
SUMMARY:First Congregational Church (United Church of Christ)
DESCRIPTION:An organ concert by Mr. Robert F. Troeger\, currently organist 
 at The Cathedral of St. Joseph in Wheeling\, West Virginia is planned for 
 March 9\, 2025 at the First Congregational Church (United Church of Christ
 ) at 318 Front Street\, Marietta\, Ohio.\n\nMr. Troeger will be playing a 
 selection of music appropriate for the Lenten Season on the 1905 Austin or
 gan with its 1\,912 pipes! The acoustics in the church are excellent so th
 is promises to be an exceptional music event.\n\nMr. Troeger\, prior to se
 rving at The Cathedral of St. Joseph\, was organist at St. Matthew's Episc
 opal Church in Wheeling\, West Virginia.\n\nMr. Troeger's education includ
 es Yale University\, Cleveland Institute of Music and Carnegie Mellon Univ
 ersity.\n\nTHIS CONCERT IS FREE AND OPEN TO THE PUBLIC.\nA FREEWILL OFFERI
 NG WILL BE TAKEN TO PROVIDE FUNDS FOR RESTORATION OF THE FELLOWSHIP HALL.
CATEGORIES:Arts &amp; Entertainment,Community,Historical,Music
LOCATION:First Congregational Church\, 318 Front Street\, Marietta\, Oh\, 4
 5750\, United States
X-APPLE-STRUCTURED-LOCATION;VALUE=URI;X-ADDRESS=318 Front Street\, Marietta
 \, Oh\, 45750\, United States;X-APPLE-RADIUS=100;X-TITLE=First Congregatio
 nal Church:geo:0,0
END:VEVENT
BEGIN:VTIMEZONE
TZID:America/New_York
X-LIC-LOCATION:America/New_York
BEGIN:DAYLIGHT
DTSTART:20250309T030000
TZOFFSETFROM:-0500
TZOFFSETTO:-0400
TZNAME:EDT
END:DAYLIGHT
END:VTIMEZONE
END:VCALENDAR