BEGIN:VCALENDAR
VERSION:2.0
PRODID:-//wp-events-plugin.com//7.2.3.1//EN
TZID:America/New_York
X-WR-TIMEZONE:America/New_York
BEGIN:VEVENT
UID:1515@mariettaohio.org
DTSTART;TZID=America/New_York:20240809T200000
DTEND;TZID=America/New_York:20240809T220000
DTSTAMP:20240430T124539Z
URL:https://mariettaohio.org/events/firehouse/
SUMMARY:FIREHOUSE
DESCRIPTION:FireHouse has been rockin’ for over a decade. Their music has
  taken them allover the world and has produced Gold\, Platinum and Multi-P
 latinum records in the United States and countries abroad. In 1990\, their
  first album\, entitled FireHouse\, was released. The band’s first singl
 e\, Shake &amp\; Tumble\, had impressive radio success.\n\nThe band then r
 eleased Don’t Treat Me Bad\, which became their first Top Ten hit. This 
 was followed by Love of a Lifetime\, which also entered the Top Ten\, reac
 hing the #3 spot on the United States charts. This string of hits vaulted 
 their first album to double platinum status in the United States\; also go
 ing gold in Canada\, Japan and Singapore. At the 1991 American Music Award
 s\, FireHouse found themselves standing before the nation accepting the aw
 ard f or Best New Hard Rock/Metal Band\, chosen over Nirvana and Alice in 
 Chains.
ATTACH;FMTTYPE=image/jpeg:https://mariettaohio.org/wp-content/uploads/2024
 /04/firehouse-insta.png
CATEGORIES:Arts &amp; Entertainment,Events,Music
LOCATION:Peoples Bank Theatre\, 222 Putnam St\, Marietta\, Ohio\, 45750\, U
 nited States
GEO:39.415852;-81.453433
X-APPLE-STRUCTURED-LOCATION;VALUE=URI;X-ADDRESS=222 Putnam St\, Marietta\, 
 Ohio\, 45750\, United States;X-APPLE-RADIUS=100;X-TITLE=Peoples Bank Theat
 re:geo:39.415852,-81.453433
END:VEVENT
BEGIN:VTIMEZONE
TZID:America/New_York
X-LIC-LOCATION:America/New_York
BEGIN:DAYLIGHT
DTSTART:20240310T030000
TZOFFSETFROM:-0500
TZOFFSETTO:-0400
TZNAME:EDT
END:DAYLIGHT
END:VTIMEZONE
END:VCALENDAR