BEGIN:VCALENDAR
VERSION:2.0
PRODID:-//wp-events-plugin.com//7.2.3.1//EN
TZID:America/New_York
X-WR-TIMEZONE:America/New_York
BEGIN:VEVENT
UID:2290@mariettaohio.org
DTSTART;TZID=America/New_York:20250615T130000
DTEND;TZID=America/New_York:20250615T150000
DTSTAMP:20250528T160500Z
URL:https://mariettaohio.org/events/fathers-day-cruises/
SUMMARY:Father's Day Cruises
DESCRIPTION:Celebrate Father's Day with our family at the Valley Gem and Ma
 jor/Riviera! Fathers and their guests will enjoy a Captain's Buffet that e
 very Dad is sure to love. This year's cruise is on June 15 from 1pm- 3pm. 
 Both boats will be operating at this time. Reservations are required.\n\n$
 46 for Adults\, $44 for Seniors\, $36 for Children 3-12\n\nBook online at 
 www.valleygemsternwheeler.com or call 740-373-7862
ATTACH;FMTTYPE=image/jpeg:https://mariettaohio.org/wp-content/uploads/2025
 /05/Fathers-Day-FH.jpg
CATEGORIES:Events
LOCATION:Valley Gem Sternwheeler\, 601 Front St\, Marietta\, Ohio\, 45750\,
  United States
GEO:39.421017;-81.463989
X-APPLE-STRUCTURED-LOCATION;VALUE=URI;X-ADDRESS=601 Front St\, Marietta\, O
 hio\, 45750\, United States;X-APPLE-RADIUS=100;X-TITLE=Valley Gem Sternwhe
 eler:geo:39.421017,-81.463989
END:VEVENT
BEGIN:VTIMEZONE
TZID:America/New_York
X-LIC-LOCATION:America/New_York
BEGIN:DAYLIGHT
DTSTART:20250309T030000
TZOFFSETFROM:-0500
TZOFFSETTO:-0400
TZNAME:EDT
END:DAYLIGHT
END:VTIMEZONE
END:VCALENDAR