BEGIN:VCALENDAR
VERSION:2.0
PRODID:-//wp-events-plugin.com//7.2.3.1//EN
TZID:America/New_York
X-WR-TIMEZONE:America/New_York
BEGIN:VEVENT
UID:1664@mariettaohio.org
DTSTART;TZID=America/New_York:20240616T130000
DTEND;TZID=America/New_York:20240616T150000
DTSTAMP:20240606T163637Z
URL:https://mariettaohio.org/events/fathers-day-cruise-2/
SUMMARY:Father's Day Cruise
DESCRIPTION:Celebrate Father's Day with our family at the Major/Riviera! Fa
 thers and their guests will enjoy a Captain's Buffet that every Dad is sur
 e to love. This year's cruise is on June 16th from 1pm- 3pm. Reservations 
 are required.\n\nCall 740-373-7862 or visit "Book Major/Riviera" at www.va
 lleygemsternwheeler.com
ATTACH;FMTTYPE=image/jpeg:https://mariettaohio.org/wp-content/uploads/2024
 /06/Fathers-Day-FH.jpg
CATEGORIES:Arts &amp; Entertainment
LOCATION:Major/Riviera\, 601 Front Street\, Marietta\, OH\, 45750\, United 
 States
X-APPLE-STRUCTURED-LOCATION;VALUE=URI;X-ADDRESS=601 Front Street\, Marietta
 \, OH\, 45750\, United States;X-APPLE-RADIUS=100;X-TITLE=Major/Riviera:geo
 :0,0
END:VEVENT
BEGIN:VTIMEZONE
TZID:America/New_York
X-LIC-LOCATION:America/New_York
BEGIN:DAYLIGHT
DTSTART:20240310T030000
TZOFFSETFROM:-0500
TZOFFSETTO:-0400
TZNAME:EDT
END:DAYLIGHT
END:VTIMEZONE
END:VCALENDAR