BEGIN:VCALENDAR
VERSION:2.0
PRODID:-//wp-events-plugin.com//7.2.3.1//EN
TZID:America/New_York
X-WR-TIMEZONE:America/New_York
BEGIN:VEVENT
UID:2287@mariettaohio.org
DTSTART;TZID=America/New_York:20250613T183000
DTEND;TZID=America/New_York:20250613T203000
DTSTAMP:20250528T151358Z
URL:https://mariettaohio.org/events/farm-to-table-dinner-cruise/
SUMMARY:Farm To Table Dinner Cruise
DESCRIPTION:Enjoy a delicious dinner from our Farm to Table Dinner Series. 
 For this dinner cruise\, we will feature ingredients from seasonal\, local
 ly farmed products. Dinner will be served family style to each table. Tick
 et price includes a two hour cruise\, dinner\, coffee\, tea\, water and so
 da.\n\n$48 for Adults\, $46 for Seniors 55+ and\, $38 for Children 3-12yea
 rs\n\nBook online at www.valleygemsternwheeler.com or call 740-373-7862.
ATTACH;FMTTYPE=image/jpeg:https://mariettaohio.org/wp-content/uploads/2025
 /05/Farm-to-Table-Dinner-Cruise.jpg
CATEGORIES:Events
LOCATION:Major/Riviera\, 601 Front Street\, Marietta\, OH\, 45750\, United 
 States
X-APPLE-STRUCTURED-LOCATION;VALUE=URI;X-ADDRESS=601 Front Street\, Marietta
 \, OH\, 45750\, United States;X-APPLE-RADIUS=100;X-TITLE=Major/Riviera:geo
 :0,0
END:VEVENT
BEGIN:VTIMEZONE
TZID:America/New_York
X-LIC-LOCATION:America/New_York
BEGIN:DAYLIGHT
DTSTART:20250309T030000
TZOFFSETFROM:-0500
TZOFFSETTO:-0400
TZNAME:EDT
END:DAYLIGHT
END:VTIMEZONE
END:VCALENDAR