BEGIN:VCALENDAR
VERSION:2.0
PRODID:-//wp-events-plugin.com//7.2.3.1//EN
TZID:America/New_York
X-WR-TIMEZONE:America/New_York
BEGIN:VEVENT
UID:1785@mariettaohio.org
DTSTART;TZID=America/New_York:20240916T180000
DTEND;TZID=America/New_York:20240916T200000
DTSTAMP:20240827T131507Z
URL:https://mariettaohio.org/events/family-game-night/
SUMMARY:Family Game Night
DESCRIPTION:On Monday\, September 16 at 6 pm\, challenge your friends and f
 amily to a night of board and card games. Snacks are provided. All ages ar
 e welcome and no registration is required. Questions? Call 740-984-4060. T
 his event takes place at the American Legion Hall at 114 5th St\, Beverly.
ATTACH;FMTTYPE=image/jpeg:https://mariettaohio.org/wp-content/uploads/2024
 /08/Game-Night-Flyer-4.jpg
CATEGORIES:Community
LOCATION:American Legion Post 389\, 114 Fifth Street\, Beverly\, OH\, 45715
 \, United States
X-APPLE-STRUCTURED-LOCATION;VALUE=URI;X-ADDRESS=114 Fifth Street\, Beverly\
 , OH\, 45715\, United States;X-APPLE-RADIUS=100;X-TITLE=American Legion Po
 st 389:geo:0,0
END:VEVENT
BEGIN:VTIMEZONE
TZID:America/New_York
X-LIC-LOCATION:America/New_York
BEGIN:DAYLIGHT
DTSTART:20240310T030000
TZOFFSETFROM:-0500
TZOFFSETTO:-0400
TZNAME:EDT
END:DAYLIGHT
END:VTIMEZONE
END:VCALENDAR