BEGIN:VCALENDAR
VERSION:2.0
PRODID:-//wp-events-plugin.com//7.2.3.1//EN
TZID:America/New_York
X-WR-TIMEZONE:America/New_York
BEGIN:VEVENT
UID:3004@mariettaohio.org
DTSTART;TZID=America/New_York:20261017T110000
DTEND;TZID=America/New_York:20261017T160000
DTSTAMP:20260401T170547Z
URL:https://mariettaohio.org/events/fall-shop-hop-2/
SUMMARY:Fall Shop Hop
DESCRIPTION:Shop and eat downtown for our Fall Shop Hop. Shops will have sa
 les and specials while celebrating the Fall season. Look for the balloons 
 in front of participating shops. Each entry at those locations enters you 
 in a drawing to win a prize basket with goodies from all participating sho
 ps.
ATTACH;FMTTYPE=image/jpeg:https://mariettaohio.org/wp-content/uploads/2026
 /04/2026ShopHopFacebookEventCover3.webp
CATEGORIES:Community,Events,Food &amp; Drink,Shopping
LOCATION:Armory Square Lawn\, 241 Front Street\, Marietta\, OH\, 45750\, Un
 ited States
GEO:39.413178;-81.455321
X-APPLE-STRUCTURED-LOCATION;VALUE=URI;X-ADDRESS=241 Front Street\, Marietta
 \, OH\, 45750\, United States;X-APPLE-RADIUS=100;X-TITLE=Armory Square Law
 n:geo:39.413178,-81.455321
END:VEVENT
BEGIN:VTIMEZONE
TZID:America/New_York
X-LIC-LOCATION:America/New_York
BEGIN:DAYLIGHT
DTSTART:20260308T030000
TZOFFSETFROM:-0500
TZOFFSETTO:-0400
TZNAME:EDT
END:DAYLIGHT
END:VTIMEZONE
END:VCALENDAR