BEGIN:VCALENDAR
VERSION:2.0
PRODID:-//wp-events-plugin.com//7.2.3.1//EN
TZID:America/New_York
X-WR-TIMEZONE:America/New_York
BEGIN:VEVENT
UID:1723@mariettaohio.org
DTSTART;TZID=America/New_York:20240817T200000
DTEND;TZID=America/New_York:20240817T230000
DTSTAMP:20240725T154510Z
URL:https://mariettaohio.org/events/division-street-2/
SUMMARY:Division Street
DESCRIPTION:Division Street is a rock/cover band in Parkersburg\, West Virg
 inia.\n\nLead Singer - Blake Johnson\n\nLead Guitarist - Alex Schreckengos
 t\n\nRhythm Guitarist - B.J. Hess\n\nDrums - Travis Hunt\n\nBass - Steve G
 rasser
ATTACH;FMTTYPE=image/jpeg:https://mariettaohio.org/wp-content/uploads/2024
 /07/ADL-Division-Street-SOCIAL-V3.jpg
CATEGORIES:Music
LOCATION:The Adelphia Music Hall\, 205 2nd St\, Marietta\, OH\, 45750\, Uni
 ted States
GEO:39.413719;-81.453701
X-APPLE-STRUCTURED-LOCATION;VALUE=URI;X-ADDRESS=205 2nd St\, Marietta\, OH\
 , 45750\, United States;X-APPLE-RADIUS=100;X-TITLE=The Adelphia Music Hall
 :geo:39.413719,-81.453701
END:VEVENT
BEGIN:VTIMEZONE
TZID:America/New_York
X-LIC-LOCATION:America/New_York
BEGIN:DAYLIGHT
DTSTART:20240310T030000
TZOFFSETFROM:-0500
TZOFFSETTO:-0400
TZNAME:EDT
END:DAYLIGHT
END:VTIMEZONE
END:VCALENDAR