BEGIN:VCALENDAR
VERSION:2.0
PRODID:-//wp-events-plugin.com//7.2.3.1//EN
TZID:America/New_York
X-WR-TIMEZONE:America/New_York
BEGIN:VEVENT
UID:2300@mariettaohio.org
DTSTART;TZID=America/New_York:20250628T120000
DTEND;TZID=America/New_York:20250628T140000
DTSTAMP:20250529T144141Z
URL:https://mariettaohio.org/events/disney-sing-a-long-lunch-cruise/
SUMMARY:Disney Sing A Long Lunch Cruise
DESCRIPTION:New this season is our first ever Disney Sing A Long on the Maj
 or/Riviera. This event is for all Disney music lovers\, young and old. The
  event will feature a two hour cruise\, lunch and plenty of sing-a-long so
 ngs. Reservations are required.\n\nJune 28\, 12pm to 2pm\n$38 for Adults\,
  $36 for Seniors\, $28 for Children 3-12
ATTACH;FMTTYPE=image/jpeg:https://mariettaohio.org/wp-content/uploads/2025
 /05/Disney-Sing-Along-scaled.jpg
CATEGORIES:Arts &amp; Entertainment,Music
LOCATION:Major/Riviera\, 601 Front Street\, Marietta\, OH\, 45750\, United 
 States
X-APPLE-STRUCTURED-LOCATION;VALUE=URI;X-ADDRESS=601 Front Street\, Marietta
 \, OH\, 45750\, United States;X-APPLE-RADIUS=100;X-TITLE=Major/Riviera:geo
 :0,0
END:VEVENT
BEGIN:VTIMEZONE
TZID:America/New_York
X-LIC-LOCATION:America/New_York
BEGIN:DAYLIGHT
DTSTART:20250309T030000
TZOFFSETFROM:-0500
TZOFFSETTO:-0400
TZNAME:EDT
END:DAYLIGHT
END:VTIMEZONE
END:VCALENDAR