BEGIN:VCALENDAR
VERSION:2.0
PRODID:-//wp-events-plugin.com//7.2.3.1//EN
TZID:America/New_York
X-WR-TIMEZONE:America/New_York
BEGIN:VEVENT
UID:3053@mariettaohio.org
DTSTART;TZID=America/New_York:20260605T120000
DTEND;TZID=America/New_York:20260605T130000
DTSTAMP:20260421T182441Z
URL:https://mariettaohio.org/events/discovering-history-morgans-raid-and-t
 he-buckeye-trail/
SUMMARY:Discovering History: Morgan's Raid and the Buckeye Trail
DESCRIPTION:The Buckeye Trail affords hikers the chance to see Ohio as it i
 s today\, but also to become aware of Ohio’s rich human and natural past
 . A look at the Morgan’s Raid of 1863 and how it intersects the trail sh
 ows us how to use the trail and hiking to understand better what came befo
 re us.\n\nJonathan Winkler is Professor of History at Wright State Univers
 ity\, where he teaches U.S. military and diplomatic history.\n\nThis progr
 am is sponsored by the Washington County Public Library\, and is FREE and 
 open to the public. The event will be live streamed on our YouTube channel
 : @CampusMartiusMuseum
ATTACH;FMTTYPE=image/jpeg:https://mariettaohio.org/wp-content/uploads/2026
 /04/Winkler_Graphic.png
CATEGORIES:Events,Historical,Outdoor Recreation
LOCATION:Campus Martius Museum\, 601 Second Street\, Marietta\, Ohio\, 4575
 0\, United States
X-APPLE-STRUCTURED-LOCATION;VALUE=URI;X-ADDRESS=601 Second Street\, Mariett
 a\, Ohio\, 45750\, United States;X-APPLE-RADIUS=100;X-TITLE=Campus Martius
  Museum:geo:0,0
END:VEVENT
BEGIN:VTIMEZONE
TZID:America/New_York
X-LIC-LOCATION:America/New_York
BEGIN:DAYLIGHT
DTSTART:20260308T030000
TZOFFSETFROM:-0500
TZOFFSETTO:-0400
TZNAME:EDT
END:DAYLIGHT
END:VTIMEZONE
END:VCALENDAR