BEGIN:VCALENDAR
VERSION:2.0
PRODID:-//wp-events-plugin.com//7.2.3.1//EN
TZID:America/New_York
X-WR-TIMEZONE:America/New_York
BEGIN:VEVENT
UID:2859@mariettaohio.org
DTSTART;TZID=America/New_York:20260501T120000
DTEND;TZID=America/New_York:20260501T130000
DTSTAMP:20260219T133851Z
URL:https://mariettaohio.org/events/discovering-history-mark-holbrook/
SUMMARY:Discovering History - Mark Holbrook
DESCRIPTION:Photography during the Civil War\n\nThe American Civil War prom
 pted photographers to take their cameras out of their studios in an effort
  to capture images of the war. The results changed perceptions of war and 
 was a catalyst for an explosion of technology that would continue for deca
 des. Paramount to the story of Civil War photography is the story of Mathe
 w Brady. His photographs of Abraham Lincoln and the Civil War have become 
 icons of the early days of photography. Just as important were the technol
 ogical advances Brady made to the art form. Hear the story of Brady’s ri
 se from obscurity to become an international phenomenon and why his effort
 s impact photography to this day.\n\nMark Holbrook has been a member of th
 e Ohio Humanities Speakers Bureau for sixteen years. He served as the mark
 eting director at the Ohio History Connection for nine years where he also
  served as Civil War Historian. He has been a consultant for tourism and h
 istory-based organizations for 20 years. Mark is a native Ohioan\, graduat
 e of The Ohio State University and an avid student of history. He also is 
 the owner of History is Personal\, a consulting firm that specializes in t
 ourism and heritage destination development.\n\nThis event is sponsored by
  the Washington County Public Library and is FREE and open to the public. 
 The presentation will be available livestreamed and recorded on our YouTub
 e Channel: @CampusMartiusMuseum
ATTACH;FMTTYPE=image/jpeg:https://mariettaohio.org/wp-content/uploads/2026
 /02/M-Holbrook-Graphic.png
CATEGORIES:Historical
LOCATION:Campus Martius Museum\, 601 Second Street\, Marietta\, Ohio\, 4575
 0\, United States
X-APPLE-STRUCTURED-LOCATION;VALUE=URI;X-ADDRESS=601 Second Street\, Mariett
 a\, Ohio\, 45750\, United States;X-APPLE-RADIUS=100;X-TITLE=Campus Martius
  Museum:geo:0,0
END:VEVENT
BEGIN:VTIMEZONE
TZID:America/New_York
X-LIC-LOCATION:America/New_York
BEGIN:DAYLIGHT
DTSTART:20260308T030000
TZOFFSETFROM:-0500
TZOFFSETTO:-0400
TZNAME:EDT
END:DAYLIGHT
END:VTIMEZONE
END:VCALENDAR